BEGIN:VCALENDAR
VERSION:2.0
PRODID:-//Ridgway United Church of the San Juans - ECPv6.15.18//NONSGML v1.0//EN
CALSCALE:GREGORIAN
METHOD:PUBLISH
X-ORIGINAL-URL:https://ucsjridgway.org
X-WR-CALDESC:Events for Ridgway United Church of the San Juans
REFRESH-INTERVAL;VALUE=DURATION:PT1H
X-Robots-Tag:noindex
X-PUBLISHED-TTL:PT1H
BEGIN:VTIMEZONE
TZID:America/Denver
BEGIN:DAYLIGHT
TZOFFSETFROM:-0700
TZOFFSETTO:-0600
TZNAME:MDT
DTSTART:20230312T090000
END:DAYLIGHT
BEGIN:STANDARD
TZOFFSETFROM:-0600
TZOFFSETTO:-0700
TZNAME:MST
DTSTART:20231105T080000
END:STANDARD
BEGIN:DAYLIGHT
TZOFFSETFROM:-0700
TZOFFSETTO:-0600
TZNAME:MDT
DTSTART:20240310T090000
END:DAYLIGHT
BEGIN:STANDARD
TZOFFSETFROM:-0600
TZOFFSETTO:-0700
TZNAME:MST
DTSTART:20241103T080000
END:STANDARD
BEGIN:DAYLIGHT
TZOFFSETFROM:-0700
TZOFFSETTO:-0600
TZNAME:MDT
DTSTART:20250309T090000
END:DAYLIGHT
BEGIN:STANDARD
TZOFFSETFROM:-0600
TZOFFSETTO:-0700
TZNAME:MST
DTSTART:20251102T080000
END:STANDARD
END:VTIMEZONE
BEGIN:VEVENT
DTSTART;TZID=America/Denver:20240710T100000
DTEND;TZID=America/Denver:20240710T113000
DTSTAMP:20260423T215023
CREATED:20240624T202947Z
LAST-MODIFIED:20240624T202947Z
UID:7196-1720605600-1720611000@ucsjridgway.org
SUMMARY:Prayer Shawl Ministry
DESCRIPTION:Contact Donna Whiskeman for more information.
URL:https://ucsjridgway.org/event/prayer-shawl-ministry-37/
END:VEVENT
BEGIN:VEVENT
DTSTART;TZID=America/Denver:20240710T120000
DTEND;TZID=America/Denver:20240710T140000
DTSTAMP:20260423T215023
CREATED:20240624T204047Z
LAST-MODIFIED:20240710T010242Z
UID:7219-1720612800-1720620000@ucsjridgway.org
SUMMARY:Confused by Our Weather Forecasts?
DESCRIPTION:Join us for a presentation with Tim Spangler\, meteorologist.
URL:https://ucsjridgway.org/event/confused-by-our-weather-forecasts/
END:VEVENT
BEGIN:VEVENT
DTSTART;TZID=America/Denver:20240710T140000
DTEND;TZID=America/Denver:20240710T160000
DTSTAMP:20260423T215023
CREATED:20240624T204820Z
LAST-MODIFIED:20240624T204820Z
UID:7228-1720620000-1720627200@ucsjridgway.org
SUMMARY:Administrative Committee Meeting
DESCRIPTION:
URL:https://ucsjridgway.org/event/administrative-committee-meeting-15/
END:VEVENT
END:VCALENDAR