BEGIN:VCALENDAR
VERSION:2.0
PRODID:-//Ridgway United Church of the San Juans - ECPv6.15.18//NONSGML v1.0//EN
CALSCALE:GREGORIAN
METHOD:PUBLISH
X-ORIGINAL-URL:https://ucsjridgway.org
X-WR-CALDESC:Events for Ridgway United Church of the San Juans
REFRESH-INTERVAL;VALUE=DURATION:PT1H
X-Robots-Tag:noindex
X-PUBLISHED-TTL:PT1H
BEGIN:VTIMEZONE
TZID:America/Denver
BEGIN:DAYLIGHT
TZOFFSETFROM:-0700
TZOFFSETTO:-0600
TZNAME:MDT
DTSTART:20230312T090000
END:DAYLIGHT
BEGIN:STANDARD
TZOFFSETFROM:-0600
TZOFFSETTO:-0700
TZNAME:MST
DTSTART:20231105T080000
END:STANDARD
BEGIN:DAYLIGHT
TZOFFSETFROM:-0700
TZOFFSETTO:-0600
TZNAME:MDT
DTSTART:20240310T090000
END:DAYLIGHT
BEGIN:STANDARD
TZOFFSETFROM:-0600
TZOFFSETTO:-0700
TZNAME:MST
DTSTART:20241103T080000
END:STANDARD
BEGIN:DAYLIGHT
TZOFFSETFROM:-0700
TZOFFSETTO:-0600
TZNAME:MDT
DTSTART:20250309T090000
END:DAYLIGHT
BEGIN:STANDARD
TZOFFSETFROM:-0600
TZOFFSETTO:-0700
TZNAME:MST
DTSTART:20251102T080000
END:STANDARD
END:VTIMEZONE
BEGIN:VEVENT
DTSTART;TZID=America/Denver:20240819T090000
DTEND;TZID=America/Denver:20240819T100000
DTSTAMP:20260423T200748
CREATED:20240722T145612Z
LAST-MODIFIED:20240722T145612Z
UID:7279-1724058000-1724061600@ucsjridgway.org
SUMMARY:Centering Prayer (via Zoom)
DESCRIPTION:For more information\, contact Kathy Graff.
URL:https://ucsjridgway.org/event/centering-prayer-via-zoom-185/
END:VEVENT
BEGIN:VEVENT
DTSTART;TZID=America/Denver:20240819T100000
DTEND;TZID=America/Denver:20240819T113000
DTSTAMP:20260423T200748
CREATED:20240722T150653Z
LAST-MODIFIED:20240723T215717Z
UID:7309-1724061600-1724067000@ucsjridgway.org
SUMMARY:Where Does the West Begin in America?
DESCRIPTION:
URL:https://ucsjridgway.org/event/where-does-the-west-begin-in-america/
END:VEVENT
END:VCALENDAR