BEGIN:VCALENDAR
VERSION:2.0
PRODID:-//Ridgway United Church of the San Juans - ECPv6.15.18//NONSGML v1.0//EN
CALSCALE:GREGORIAN
METHOD:PUBLISH
X-WR-CALNAME:Ridgway United Church of the San Juans
X-ORIGINAL-URL:https://ucsjridgway.org
X-WR-CALDESC:Events for Ridgway United Church of the San Juans
REFRESH-INTERVAL;VALUE=DURATION:PT1H
X-Robots-Tag:noindex
X-PUBLISHED-TTL:PT1H
BEGIN:VTIMEZONE
TZID:America/Denver
BEGIN:DAYLIGHT
TZOFFSETFROM:-0700
TZOFFSETTO:-0600
TZNAME:MDT
DTSTART:20230312T090000
END:DAYLIGHT
BEGIN:STANDARD
TZOFFSETFROM:-0600
TZOFFSETTO:-0700
TZNAME:MST
DTSTART:20231105T080000
END:STANDARD
BEGIN:DAYLIGHT
TZOFFSETFROM:-0700
TZOFFSETTO:-0600
TZNAME:MDT
DTSTART:20240310T090000
END:DAYLIGHT
BEGIN:STANDARD
TZOFFSETFROM:-0600
TZOFFSETTO:-0700
TZNAME:MST
DTSTART:20241103T080000
END:STANDARD
BEGIN:DAYLIGHT
TZOFFSETFROM:-0700
TZOFFSETTO:-0600
TZNAME:MDT
DTSTART:20250309T090000
END:DAYLIGHT
BEGIN:STANDARD
TZOFFSETFROM:-0600
TZOFFSETTO:-0700
TZNAME:MST
DTSTART:20251102T080000
END:STANDARD
END:VTIMEZONE
BEGIN:VEVENT
DTSTART;TZID=America/Denver:20240826T090000
DTEND;TZID=America/Denver:20240826T100000
DTSTAMP:20260423T200753
CREATED:20240722T145652Z
LAST-MODIFIED:20240722T145652Z
UID:7281-1724662800-1724666400@ucsjridgway.org
SUMMARY:Centering Prayer (via Zoom)
DESCRIPTION:For more information\, contact Kathy Graff.
URL:https://ucsjridgway.org/event/centering-prayer-via-zoom-186/
END:VEVENT
BEGIN:VEVENT
DTSTART;TZID=America/Denver:20240826T100000
DTEND;TZID=America/Denver:20240826T113000
DTSTAMP:20260423T200753
CREATED:20240722T152136Z
LAST-MODIFIED:20240722T152136Z
UID:7319-1724666400-1724671800@ucsjridgway.org
SUMMARY:On the Same Page Book Club
DESCRIPTION:We will be discussing the book Go as a River by Shelley Read.
URL:https://ucsjridgway.org/event/on-the-same-page-book-club-11/
END:VEVENT
END:VCALENDAR