BEGIN:VCALENDAR
VERSION:2.0
PRODID:-//Ridgway United Church of the San Juans - ECPv6.15.18//NONSGML v1.0//EN
CALSCALE:GREGORIAN
METHOD:PUBLISH
X-ORIGINAL-URL:https://ucsjridgway.org
X-WR-CALDESC:Events for Ridgway United Church of the San Juans
REFRESH-INTERVAL;VALUE=DURATION:PT1H
X-Robots-Tag:noindex
X-PUBLISHED-TTL:PT1H
BEGIN:VTIMEZONE
TZID:America/Denver
BEGIN:DAYLIGHT
TZOFFSETFROM:-0700
TZOFFSETTO:-0600
TZNAME:MDT
DTSTART:20240310T090000
END:DAYLIGHT
BEGIN:STANDARD
TZOFFSETFROM:-0600
TZOFFSETTO:-0700
TZNAME:MST
DTSTART:20241103T080000
END:STANDARD
BEGIN:DAYLIGHT
TZOFFSETFROM:-0700
TZOFFSETTO:-0600
TZNAME:MDT
DTSTART:20250309T090000
END:DAYLIGHT
BEGIN:STANDARD
TZOFFSETFROM:-0600
TZOFFSETTO:-0700
TZNAME:MST
DTSTART:20251102T080000
END:STANDARD
BEGIN:DAYLIGHT
TZOFFSETFROM:-0700
TZOFFSETTO:-0600
TZNAME:MDT
DTSTART:20260308T090000
END:DAYLIGHT
BEGIN:STANDARD
TZOFFSETFROM:-0600
TZOFFSETTO:-0700
TZNAME:MST
DTSTART:20261101T080000
END:STANDARD
END:VTIMEZONE
BEGIN:VEVENT
DTSTART;TZID=America/Denver:20250608T100000
DTEND;TZID=America/Denver:20250608T110000
DTSTAMP:20260423T042125
CREATED:20250519T195655Z
LAST-MODIFIED:20250519T195655Z
UID:8327-1749376800-1749380400@ucsjridgway.org
SUMMARY:Worship Service
DESCRIPTION:Sunday worship is also videotaped and posted on Facebook\, following the service\, here\, for you to worship at home\, or through our website here. \n 
URL:https://ucsjridgway.org/event/worship-service-177/
END:VEVENT
BEGIN:VEVENT
DTSTART;TZID=America/Denver:20250608T160000
DTEND;TZID=America/Denver:20250608T180000
DTSTAMP:20260423T042125
CREATED:20250519T201302Z
LAST-MODIFIED:20250519T201302Z
UID:8371-1749398400-1749405600@ucsjridgway.org
SUMMARY:Sunday Sundae Concert
DESCRIPTION:“Creating Sacred Music in a Sacred Place” featuring the San Juan Choral Festival which is comprised of 30 voices: 5 professional section leaders\, and 25 very accomplished amateurs\, led by Earl Rivers.  The concert is free with donations gratefully accepted and there is ICE CREAM and fellowship after the concert! \n 
URL:https://ucsjridgway.org/event/sunday-sundae-concert-6/
END:VEVENT
END:VCALENDAR