BEGIN:VCALENDAR
VERSION:2.0
PRODID:-//Ridgway United Church of the San Juans - ECPv6.15.18//NONSGML v1.0//EN
CALSCALE:GREGORIAN
METHOD:PUBLISH
X-WR-CALNAME:Ridgway United Church of the San Juans
X-ORIGINAL-URL:https://ucsjridgway.org
X-WR-CALDESC:Events for Ridgway United Church of the San Juans
REFRESH-INTERVAL;VALUE=DURATION:PT1H
X-Robots-Tag:noindex
X-PUBLISHED-TTL:PT1H
BEGIN:VTIMEZONE
TZID:America/Denver
BEGIN:DAYLIGHT
TZOFFSETFROM:-0700
TZOFFSETTO:-0600
TZNAME:MDT
DTSTART:20240310T090000
END:DAYLIGHT
BEGIN:STANDARD
TZOFFSETFROM:-0600
TZOFFSETTO:-0700
TZNAME:MST
DTSTART:20241103T080000
END:STANDARD
BEGIN:DAYLIGHT
TZOFFSETFROM:-0700
TZOFFSETTO:-0600
TZNAME:MDT
DTSTART:20250309T090000
END:DAYLIGHT
BEGIN:STANDARD
TZOFFSETFROM:-0600
TZOFFSETTO:-0700
TZNAME:MST
DTSTART:20251102T080000
END:STANDARD
BEGIN:DAYLIGHT
TZOFFSETFROM:-0700
TZOFFSETTO:-0600
TZNAME:MDT
DTSTART:20260308T090000
END:DAYLIGHT
BEGIN:STANDARD
TZOFFSETFROM:-0600
TZOFFSETTO:-0700
TZNAME:MST
DTSTART:20261101T080000
END:STANDARD
END:VTIMEZONE
BEGIN:VEVENT
DTSTART;TZID=America/Denver:20250713T083000
DTEND;TZID=America/Denver:20250713T093000
DTSTAMP:20260423T024427
CREATED:20250623T211314Z
LAST-MODIFIED:20250623T211314Z
UID:8490-1752395400-1752399000@ucsjridgway.org
SUMMARY:Choir Practice
DESCRIPTION:For more information contact Katy Kristoffersen\, Director of Music (ucsjmusic@gmail.com).
URL:https://ucsjridgway.org/event/choir-practice-145/
END:VEVENT
BEGIN:VEVENT
DTSTART;TZID=America/Denver:20250713T100000
DTEND;TZID=America/Denver:20250713T110000
DTSTAMP:20260423T024427
CREATED:20250623T211048Z
LAST-MODIFIED:20250623T211048Z
UID:8482-1752400800-1752404400@ucsjridgway.org
SUMMARY:Worship Service
DESCRIPTION:Sunday worship is also videotaped and posted on Facebook\, following the service\, here\, for you to worship at home\, or through our website here. \n 
URL:https://ucsjridgway.org/event/worship-service-181/
END:VEVENT
BEGIN:VEVENT
DTSTART;TZID=America/Denver:20250713T160000
DTEND;TZID=America/Denver:20250713T170000
DTSTAMP:20260423T024427
CREATED:20250614T144933Z
LAST-MODIFIED:20250614T144950Z
UID:8445-1752422400-1752426000@ucsjridgway.org
SUMMARY:Humans Anonymous
DESCRIPTION:A 5-week long discussion that will present some of the history & practices of 12-step recovery programs\, like Alcoholics Anonymous. Starting from the idea that the 12-step process can be valuable to everyone\, we aim to introduce people who have never attended a 12-step meeting to some of the program’s spiritual insights. We will also discuss how to be a supportive ally to people in 12-step recovery programs. This class is not intended to be a 12-step recovery group. Angela Todd will be presenting this series which meets July 13\, 20\, 27\, and August 3\, and 10.
URL:https://ucsjridgway.org/event/humans-anonymous/
END:VEVENT
END:VCALENDAR