BEGIN:VCALENDAR
VERSION:2.0
PRODID:-//Ridgway United Church of the San Juans - ECPv6.15.18//NONSGML v1.0//EN
CALSCALE:GREGORIAN
METHOD:PUBLISH
X-ORIGINAL-URL:https://ucsjridgway.org
X-WR-CALDESC:Events for Ridgway United Church of the San Juans
REFRESH-INTERVAL;VALUE=DURATION:PT1H
X-Robots-Tag:noindex
X-PUBLISHED-TTL:PT1H
BEGIN:VTIMEZONE
TZID:America/Denver
BEGIN:DAYLIGHT
TZOFFSETFROM:-0700
TZOFFSETTO:-0600
TZNAME:MDT
DTSTART:20240310T090000
END:DAYLIGHT
BEGIN:STANDARD
TZOFFSETFROM:-0600
TZOFFSETTO:-0700
TZNAME:MST
DTSTART:20241103T080000
END:STANDARD
BEGIN:DAYLIGHT
TZOFFSETFROM:-0700
TZOFFSETTO:-0600
TZNAME:MDT
DTSTART:20250309T090000
END:DAYLIGHT
BEGIN:STANDARD
TZOFFSETFROM:-0600
TZOFFSETTO:-0700
TZNAME:MST
DTSTART:20251102T080000
END:STANDARD
BEGIN:DAYLIGHT
TZOFFSETFROM:-0700
TZOFFSETTO:-0600
TZNAME:MDT
DTSTART:20260308T090000
END:DAYLIGHT
BEGIN:STANDARD
TZOFFSETFROM:-0600
TZOFFSETTO:-0700
TZNAME:MST
DTSTART:20261101T080000
END:STANDARD
END:VTIMEZONE
BEGIN:VEVENT
DTSTART;TZID=America/Denver:20250723T100000
DTEND;TZID=America/Denver:20250723T153000
DTSTAMP:20260423T024504
CREATED:20250623T213104Z
LAST-MODIFIED:20250623T213104Z
UID:8523-1753264800-1753284600@ucsjridgway.org
SUMMARY:Explore the Cimarrons
DESCRIPTION:Answer the call from the mountains! On Wednesday\, July 23rd\, we’re taking on a journey through some of Colorado’s most iconic landscapes. Our expedition begins at the church. From there\, we’ll follow County Road 10 to County Road 8 to Forest Service Road 858. We’ll pass through the ranches in what’s known as “millionaires valley” before climbing toward breathtaking views at Vista Point\, see Chimney Rock and Courthouse Mountain\, and stop at Deb’s Meadow\, where the legendary True Grit shootout was filmed. We’ll go over Owl Creek Pass and down to Silver Jack Reservoir where we’ll have our lunch by the water. \nBe sure to pack lunch and bring an outdoor chair or blanket since there aren’t any picnic tables. When it’s time to come home\, the adventure concludes with a choice: take the familiar road back to Ridgway\, forge a new path over to Highway 50 and down to Montrose\, or spend a little more mountain time. \nPlease note: While the mountain roads are gravel and a bit rugged\, they are easily managed by most vehicles with high clearance (4-wheel drive is not needed) and it will be about 25 miles each way and take 4-5 hours. \n 
URL:https://ucsjridgway.org/event/explore-the-cimarrons/
END:VEVENT
END:VCALENDAR