BEGIN:VCALENDAR
VERSION:2.0
PRODID:-//Ridgway United Church of the San Juans - ECPv6.15.18//NONSGML v1.0//EN
CALSCALE:GREGORIAN
METHOD:PUBLISH
X-WR-CALNAME:Ridgway United Church of the San Juans
X-ORIGINAL-URL:https://ucsjridgway.org
X-WR-CALDESC:Events for Ridgway United Church of the San Juans
REFRESH-INTERVAL;VALUE=DURATION:PT1H
X-Robots-Tag:noindex
X-PUBLISHED-TTL:PT1H
BEGIN:VTIMEZONE
TZID:America/Denver
BEGIN:DAYLIGHT
TZOFFSETFROM:-0700
TZOFFSETTO:-0600
TZNAME:MDT
DTSTART:20240310T090000
END:DAYLIGHT
BEGIN:STANDARD
TZOFFSETFROM:-0600
TZOFFSETTO:-0700
TZNAME:MST
DTSTART:20241103T080000
END:STANDARD
BEGIN:DAYLIGHT
TZOFFSETFROM:-0700
TZOFFSETTO:-0600
TZNAME:MDT
DTSTART:20250309T090000
END:DAYLIGHT
BEGIN:STANDARD
TZOFFSETFROM:-0600
TZOFFSETTO:-0700
TZNAME:MST
DTSTART:20251102T080000
END:STANDARD
BEGIN:DAYLIGHT
TZOFFSETFROM:-0700
TZOFFSETTO:-0600
TZNAME:MDT
DTSTART:20260308T090000
END:DAYLIGHT
BEGIN:STANDARD
TZOFFSETFROM:-0600
TZOFFSETTO:-0700
TZNAME:MST
DTSTART:20261101T080000
END:STANDARD
END:VTIMEZONE
BEGIN:VEVENT
DTSTART;TZID=America/Denver:20250918T093000
DTEND;TZID=America/Denver:20250918T103000
DTSTAMP:20260422T235557
CREATED:20250826T210656Z
LAST-MODIFIED:20250826T210656Z
UID:8677-1758187800-1758191400@ucsjridgway.org
SUMMARY:Women's Bible Study
DESCRIPTION:To join the Zoom meeting click here. For more information contact Donna Whiskeman.
URL:https://ucsjridgway.org/event/womens-bible-study-3/
END:VEVENT
BEGIN:VEVENT
DTSTART;TZID=America/Denver:20250918T120000
DTEND;TZID=America/Denver:20250918T133000
DTSTAMP:20260422T235557
CREATED:20250826T221142Z
LAST-MODIFIED:20250826T221142Z
UID:8708-1758196800-1758202200@ucsjridgway.org
SUMMARY:Gals' Lunch at Greenwood's in Ridgway
DESCRIPTION:
URL:https://ucsjridgway.org/event/gals-lunch-at-greenwoods-in-ridgway/
END:VEVENT
BEGIN:VEVENT
DTSTART;TZID=America/Denver:20250918T163000
DTEND;TZID=America/Denver:20250918T173000
DTSTAMP:20260422T235557
CREATED:20250826T211714Z
LAST-MODIFIED:20250826T211714Z
UID:8687-1758213000-1758216600@ucsjridgway.org
SUMMARY:Choir Practice
DESCRIPTION:For more information contact Katy Kristoffersen\, Director of Music (ucsjmusic@gmail.com).
URL:https://ucsjridgway.org/event/choir-practice-155/
END:VEVENT
END:VCALENDAR