BEGIN:VCALENDAR
VERSION:2.0
PRODID:-//Ridgway United Church of the San Juans - ECPv6.15.18//NONSGML v1.0//EN
CALSCALE:GREGORIAN
METHOD:PUBLISH
X-ORIGINAL-URL:https://ucsjridgway.org
X-WR-CALDESC:Events for Ridgway United Church of the San Juans
REFRESH-INTERVAL;VALUE=DURATION:PT1H
X-Robots-Tag:noindex
X-PUBLISHED-TTL:PT1H
BEGIN:VTIMEZONE
TZID:America/Denver
BEGIN:DAYLIGHT
TZOFFSETFROM:-0700
TZOFFSETTO:-0600
TZNAME:MDT
DTSTART:20240310T090000
END:DAYLIGHT
BEGIN:STANDARD
TZOFFSETFROM:-0600
TZOFFSETTO:-0700
TZNAME:MST
DTSTART:20241103T080000
END:STANDARD
BEGIN:DAYLIGHT
TZOFFSETFROM:-0700
TZOFFSETTO:-0600
TZNAME:MDT
DTSTART:20250309T090000
END:DAYLIGHT
BEGIN:STANDARD
TZOFFSETFROM:-0600
TZOFFSETTO:-0700
TZNAME:MST
DTSTART:20251102T080000
END:STANDARD
BEGIN:DAYLIGHT
TZOFFSETFROM:-0700
TZOFFSETTO:-0600
TZNAME:MDT
DTSTART:20260308T090000
END:DAYLIGHT
BEGIN:STANDARD
TZOFFSETFROM:-0600
TZOFFSETTO:-0700
TZNAME:MST
DTSTART:20261101T080000
END:STANDARD
END:VTIMEZONE
BEGIN:VEVENT
DTSTART;TZID=America/Denver:20250925T080000
DTEND;TZID=America/Denver:20250925T170000
DTSTAMP:20260422T235711
CREATED:20250826T212357Z
LAST-MODIFIED:20250826T212357Z
UID:8697-1758787200-1758819600@ucsjridgway.org
SUMMARY:Mountain Adventure
DESCRIPTION:There’s gold in our mountains! Join us for a day trip to see our beautiful fall colors. We’ll head over to Gunnison\, Crested Butte (get pizza for lunch)\, and Kebler Pass. Meet at church at 8 AM or at Loony Bean in Montrose at 8:30 AM.
URL:https://ucsjridgway.org/event/mountain-adventure/
END:VEVENT
BEGIN:VEVENT
DTSTART;TZID=America/Denver:20250925T093000
DTEND;TZID=America/Denver:20250925T103000
DTSTAMP:20260422T235711
CREATED:20250826T210723Z
LAST-MODIFIED:20250826T210723Z
UID:8679-1758792600-1758796200@ucsjridgway.org
SUMMARY:Women's Bible Study
DESCRIPTION:To join the Zoom meeting click here. For more information contact Donna Whiskeman.
URL:https://ucsjridgway.org/event/womens-bible-study-4/
END:VEVENT
BEGIN:VEVENT
DTSTART;TZID=America/Denver:20250925T163000
DTEND;TZID=America/Denver:20250925T173000
DTSTAMP:20260422T235711
CREATED:20250826T211743Z
LAST-MODIFIED:20250826T211743Z
UID:8689-1758817800-1758821400@ucsjridgway.org
SUMMARY:Choir Practice
DESCRIPTION:For more information contact Katy Kristoffersen\, Director of Music (ucsjmusic@gmail.com).
URL:https://ucsjridgway.org/event/choir-practice-156/
END:VEVENT
END:VCALENDAR