BEGIN:VCALENDAR
VERSION:2.0
PRODID:-//Ridgway United Church of the San Juans - ECPv6.15.18//NONSGML v1.0//EN
CALSCALE:GREGORIAN
METHOD:PUBLISH
X-WR-CALNAME:Ridgway United Church of the San Juans
X-ORIGINAL-URL:https://ucsjridgway.org
X-WR-CALDESC:Events for Ridgway United Church of the San Juans
REFRESH-INTERVAL;VALUE=DURATION:PT1H
X-Robots-Tag:noindex
X-PUBLISHED-TTL:PT1H
BEGIN:VTIMEZONE
TZID:America/Denver
BEGIN:DAYLIGHT
TZOFFSETFROM:-0700
TZOFFSETTO:-0600
TZNAME:MDT
DTSTART:20240310T090000
END:DAYLIGHT
BEGIN:STANDARD
TZOFFSETFROM:-0600
TZOFFSETTO:-0700
TZNAME:MST
DTSTART:20241103T080000
END:STANDARD
BEGIN:DAYLIGHT
TZOFFSETFROM:-0700
TZOFFSETTO:-0600
TZNAME:MDT
DTSTART:20250309T090000
END:DAYLIGHT
BEGIN:STANDARD
TZOFFSETFROM:-0600
TZOFFSETTO:-0700
TZNAME:MST
DTSTART:20251102T080000
END:STANDARD
BEGIN:DAYLIGHT
TZOFFSETFROM:-0700
TZOFFSETTO:-0600
TZNAME:MDT
DTSTART:20260308T090000
END:DAYLIGHT
BEGIN:STANDARD
TZOFFSETFROM:-0600
TZOFFSETTO:-0700
TZNAME:MST
DTSTART:20261101T080000
END:STANDARD
END:VTIMEZONE
BEGIN:VEVENT
DTSTART;TZID=America/Denver:20251002T093000
DTEND;TZID=America/Denver:20251002T103000
DTSTAMP:20260422T173554
CREATED:20250922T214444Z
LAST-MODIFIED:20250922T214444Z
UID:8791-1759397400-1759401000@ucsjridgway.org
SUMMARY:Women's Bible Study
DESCRIPTION:To join the Zoom meeting click here. For more information contact Donna Whiskeman.
URL:https://ucsjridgway.org/event/womens-bible-study-5/
END:VEVENT
BEGIN:VEVENT
DTSTART;TZID=America/Denver:20251002T163000
DTEND;TZID=America/Denver:20251002T173000
DTSTAMP:20260422T173554
CREATED:20250922T214832Z
LAST-MODIFIED:20250922T214832Z
UID:8801-1759422600-1759426200@ucsjridgway.org
SUMMARY:Choir Practice
DESCRIPTION:For more information contact Katy Kristoffersen\, Director of Music (ucsjmusic@gmail.com).
URL:https://ucsjridgway.org/event/choir-practice-157/
END:VEVENT
BEGIN:VEVENT
DTSTART;TZID=America/Denver:20251002T183000
DTEND;TZID=America/Denver:20251002T200000
DTSTAMP:20260422T173554
CREATED:20250924T222002Z
LAST-MODIFIED:20250924T222002Z
UID:8823-1759429800-1759435200@ucsjridgway.org
SUMMARY:Medicare Presentation
DESCRIPTION:Are You Confused about Medicare? Neighbor to Neighbor and Region 10 will present a program on Medicare in October. Learn about Medicare in general\, Medicare Advantage and Supplemental Insurance and how to make sense of the literature Medicare puts out. Contact Donna Whiskeman for information.
URL:https://ucsjridgway.org/event/medicare-presentation/
END:VEVENT
END:VCALENDAR