BEGIN:VCALENDAR
VERSION:2.0
PRODID:-//Ridgway United Church of the San Juans - ECPv6.15.18//NONSGML v1.0//EN
CALSCALE:GREGORIAN
METHOD:PUBLISH
X-WR-CALNAME:Ridgway United Church of the San Juans
X-ORIGINAL-URL:https://ucsjridgway.org
X-WR-CALDESC:Events for Ridgway United Church of the San Juans
REFRESH-INTERVAL;VALUE=DURATION:PT1H
X-Robots-Tag:noindex
X-PUBLISHED-TTL:PT1H
BEGIN:VTIMEZONE
TZID:America/Denver
BEGIN:DAYLIGHT
TZOFFSETFROM:-0700
TZOFFSETTO:-0600
TZNAME:MDT
DTSTART:20240310T090000
END:DAYLIGHT
BEGIN:STANDARD
TZOFFSETFROM:-0600
TZOFFSETTO:-0700
TZNAME:MST
DTSTART:20241103T080000
END:STANDARD
BEGIN:DAYLIGHT
TZOFFSETFROM:-0700
TZOFFSETTO:-0600
TZNAME:MDT
DTSTART:20250309T090000
END:DAYLIGHT
BEGIN:STANDARD
TZOFFSETFROM:-0600
TZOFFSETTO:-0700
TZNAME:MST
DTSTART:20251102T080000
END:STANDARD
BEGIN:DAYLIGHT
TZOFFSETFROM:-0700
TZOFFSETTO:-0600
TZNAME:MDT
DTSTART:20260308T090000
END:DAYLIGHT
BEGIN:STANDARD
TZOFFSETFROM:-0600
TZOFFSETTO:-0700
TZNAME:MST
DTSTART:20261101T080000
END:STANDARD
END:VTIMEZONE
BEGIN:VEVENT
DTSTART;TZID=America/Denver:20251003T163000
DTEND;TZID=America/Denver:20251003T183000
DTSTAMP:20260422T155558
CREATED:20250826T221535Z
LAST-MODIFIED:20250922T212224Z
UID:8712-1759509000-1759516200@ucsjridgway.org
SUMMARY:Lupper Harvest Party
DESCRIPTION:Let’s ”gather” together to celebrate the fall season with a Harvest Party at the home of Kathy and Gary Calkins. This will be a wonderful evening of fellowship and a fall potluck. Please bring a soup\, side dish\, or dessert to share. Kathy will be baking delicious homemade bread\, and we’ll also have the chance to harvest the final vegetables from their garden! Be sure to dress for the occasion in denim\, comfortable shoes\, and a jacket.
URL:https://ucsjridgway.org/event/harvest-party-at-calkins-home/
END:VEVENT
END:VCALENDAR