BEGIN:VCALENDAR
VERSION:2.0
PRODID:-//Ridgway United Church of the San Juans - ECPv6.15.18//NONSGML v1.0//EN
CALSCALE:GREGORIAN
METHOD:PUBLISH
X-ORIGINAL-URL:https://ucsjridgway.org
X-WR-CALDESC:Events for Ridgway United Church of the San Juans
REFRESH-INTERVAL;VALUE=DURATION:PT1H
X-Robots-Tag:noindex
X-PUBLISHED-TTL:PT1H
BEGIN:VTIMEZONE
TZID:America/Denver
BEGIN:DAYLIGHT
TZOFFSETFROM:-0700
TZOFFSETTO:-0600
TZNAME:MDT
DTSTART:20240310T090000
END:DAYLIGHT
BEGIN:STANDARD
TZOFFSETFROM:-0600
TZOFFSETTO:-0700
TZNAME:MST
DTSTART:20241103T080000
END:STANDARD
BEGIN:DAYLIGHT
TZOFFSETFROM:-0700
TZOFFSETTO:-0600
TZNAME:MDT
DTSTART:20250309T090000
END:DAYLIGHT
BEGIN:STANDARD
TZOFFSETFROM:-0600
TZOFFSETTO:-0700
TZNAME:MST
DTSTART:20251102T080000
END:STANDARD
BEGIN:DAYLIGHT
TZOFFSETFROM:-0700
TZOFFSETTO:-0600
TZNAME:MDT
DTSTART:20260308T090000
END:DAYLIGHT
BEGIN:STANDARD
TZOFFSETFROM:-0600
TZOFFSETTO:-0700
TZNAME:MST
DTSTART:20261101T080000
END:STANDARD
END:VTIMEZONE
BEGIN:VEVENT
DTSTART;TZID=America/Denver:20251022T120000
DTEND;TZID=America/Denver:20251022T133000
DTSTAMP:20260421T094127
CREATED:20250924T222059Z
LAST-MODIFIED:20250924T222059Z
UID:8825-1761134400-1761139800@ucsjridgway.org
SUMMARY:Neighbor-to-Neighbor Lunch
DESCRIPTION:
URL:https://ucsjridgway.org/event/neighbor-to-neighbor-lunch/
END:VEVENT
BEGIN:VEVENT
DTSTART;TZID=America/Denver:20251022T163000
DTEND;TZID=America/Denver:20251022T190000
DTSTAMP:20260421T094127
CREATED:20250922T213240Z
LAST-MODIFIED:20250922T213421Z
UID:8776-1761150600-1761159600@ucsjridgway.org
SUMMARY:Community Learning
DESCRIPTION:Book study (The Tears of Things by Richard Rohr or The Rhineland Mystics by Oliver Davies) at 4:30 PM and soup supper at 6 PM (September 24 through October).
URL:https://ucsjridgway.org/event/community-learning-71/
END:VEVENT
END:VCALENDAR