BEGIN:VCALENDAR
VERSION:2.0
PRODID:-//Ridgway United Church of the San Juans - ECPv6.15.18//NONSGML v1.0//EN
CALSCALE:GREGORIAN
METHOD:PUBLISH
X-WR-CALNAME:Ridgway United Church of the San Juans
X-ORIGINAL-URL:https://ucsjridgway.org
X-WR-CALDESC:Events for Ridgway United Church of the San Juans
REFRESH-INTERVAL;VALUE=DURATION:PT1H
X-Robots-Tag:noindex
X-PUBLISHED-TTL:PT1H
BEGIN:VTIMEZONE
TZID:America/Denver
BEGIN:DAYLIGHT
TZOFFSETFROM:-0700
TZOFFSETTO:-0600
TZNAME:MDT
DTSTART:20240310T090000
END:DAYLIGHT
BEGIN:STANDARD
TZOFFSETFROM:-0600
TZOFFSETTO:-0700
TZNAME:MST
DTSTART:20241103T080000
END:STANDARD
BEGIN:DAYLIGHT
TZOFFSETFROM:-0700
TZOFFSETTO:-0600
TZNAME:MDT
DTSTART:20250309T090000
END:DAYLIGHT
BEGIN:STANDARD
TZOFFSETFROM:-0600
TZOFFSETTO:-0700
TZNAME:MST
DTSTART:20251102T080000
END:STANDARD
BEGIN:DAYLIGHT
TZOFFSETFROM:-0700
TZOFFSETTO:-0600
TZNAME:MDT
DTSTART:20260308T090000
END:DAYLIGHT
BEGIN:STANDARD
TZOFFSETFROM:-0600
TZOFFSETTO:-0700
TZNAME:MST
DTSTART:20261101T080000
END:STANDARD
END:VTIMEZONE
BEGIN:VEVENT
DTSTART;TZID=America/Denver:20251023T093000
DTEND;TZID=America/Denver:20251023T103000
DTSTAMP:20260421T080824
CREATED:20250922T214628Z
LAST-MODIFIED:20250922T214628Z
UID:8797-1761211800-1761215400@ucsjridgway.org
SUMMARY:Women's Bible Study
DESCRIPTION:To join the Zoom meeting click here. For more information contact Donna Whiskeman.
URL:https://ucsjridgway.org/event/womens-bible-study-8/
END:VEVENT
BEGIN:VEVENT
DTSTART;TZID=America/Denver:20251023T120000
DTEND;TZID=America/Denver:20251023T133000
DTSTAMP:20260421T080824
CREATED:20250922T220730Z
LAST-MODIFIED:20250922T220730Z
UID:8819-1761220800-1761226200@ucsjridgway.org
SUMMARY:Gals' Lunch at the Stonehouse\, Montrose
DESCRIPTION:
URL:https://ucsjridgway.org/event/gals-lunch-at-the-stonehouse-montrose/
END:VEVENT
BEGIN:VEVENT
DTSTART;TZID=America/Denver:20251023T163000
DTEND;TZID=America/Denver:20251023T173000
DTSTAMP:20260421T080824
CREATED:20250922T215038Z
LAST-MODIFIED:20250922T215038Z
UID:8807-1761237000-1761240600@ucsjridgway.org
SUMMARY:Choir Practice
DESCRIPTION:For more information contact Katy Kristoffersen\, Director of Music (ucsjmusic@gmail.com).
URL:https://ucsjridgway.org/event/choir-practice-160/
END:VEVENT
END:VCALENDAR