BEGIN:VCALENDAR
VERSION:2.0
PRODID:-//Ridgway United Church of the San Juans - ECPv6.15.18//NONSGML v1.0//EN
CALSCALE:GREGORIAN
METHOD:PUBLISH
X-ORIGINAL-URL:https://ucsjridgway.org
X-WR-CALDESC:Events for Ridgway United Church of the San Juans
REFRESH-INTERVAL;VALUE=DURATION:PT1H
X-Robots-Tag:noindex
X-PUBLISHED-TTL:PT1H
BEGIN:VTIMEZONE
TZID:America/Denver
BEGIN:DAYLIGHT
TZOFFSETFROM:-0700
TZOFFSETTO:-0600
TZNAME:MDT
DTSTART:20240310T090000
END:DAYLIGHT
BEGIN:STANDARD
TZOFFSETFROM:-0600
TZOFFSETTO:-0700
TZNAME:MST
DTSTART:20241103T080000
END:STANDARD
BEGIN:DAYLIGHT
TZOFFSETFROM:-0700
TZOFFSETTO:-0600
TZNAME:MDT
DTSTART:20250309T090000
END:DAYLIGHT
BEGIN:STANDARD
TZOFFSETFROM:-0600
TZOFFSETTO:-0700
TZNAME:MST
DTSTART:20251102T080000
END:STANDARD
BEGIN:DAYLIGHT
TZOFFSETFROM:-0700
TZOFFSETTO:-0600
TZNAME:MDT
DTSTART:20260308T090000
END:DAYLIGHT
BEGIN:STANDARD
TZOFFSETFROM:-0600
TZOFFSETTO:-0700
TZNAME:MST
DTSTART:20261101T080000
END:STANDARD
END:VTIMEZONE
BEGIN:VEVENT
DTSTART;TZID=America/Denver:20251102T100000
DTEND;TZID=America/Denver:20251102T110000
DTSTAMP:20260421T034247
CREATED:20251020T195441Z
LAST-MODIFIED:20251020T195441Z
UID:8889-1762077600-1762081200@ucsjridgway.org
SUMMARY:Worship Service with Communion
DESCRIPTION:Sunday worship is also videotaped and posted on Facebook\, following the service\, here\, for you to worship at home\, or through our website here. \n 
URL:https://ucsjridgway.org/event/worship-service-with-communion-52/
END:VEVENT
BEGIN:VEVENT
DTSTART;TZID=America/Denver:20251102T150000
DTEND;TZID=America/Denver:20251102T160000
DTSTAMP:20260421T034247
CREATED:20251009T010745Z
LAST-MODIFIED:20251009T010745Z
UID:8867-1762095600-1762099200@ucsjridgway.org
SUMMARY:Youth Choir Rehearsal
DESCRIPTION:3 PM – 4 PM on the following Sundays: 10/26/25\, 11/2/25\, 11/9/25\, 11/16/25\, 11/30/25\nand 3:30 PM – 4:30 PM on Wednesday\, 12/3/25 \nAges 7-18 and directed by Katy Kristoffersen.  Click here for more information and to register.  Christmas concert is Friday\, December 5 at 4:30 PM.
URL:https://ucsjridgway.org/event/youth-choir-rehearsal-2/
END:VEVENT
END:VCALENDAR