BEGIN:VCALENDAR
VERSION:2.0
PRODID:-//Ridgway United Church of the San Juans - ECPv6.15.18//NONSGML v1.0//EN
CALSCALE:GREGORIAN
METHOD:PUBLISH
X-WR-CALNAME:Ridgway United Church of the San Juans
X-ORIGINAL-URL:https://ucsjridgway.org
X-WR-CALDESC:Events for Ridgway United Church of the San Juans
REFRESH-INTERVAL;VALUE=DURATION:PT1H
X-Robots-Tag:noindex
X-PUBLISHED-TTL:PT1H
BEGIN:VTIMEZONE
TZID:America/Denver
BEGIN:DAYLIGHT
TZOFFSETFROM:-0700
TZOFFSETTO:-0600
TZNAME:MDT
DTSTART:20240310T090000
END:DAYLIGHT
BEGIN:STANDARD
TZOFFSETFROM:-0600
TZOFFSETTO:-0700
TZNAME:MST
DTSTART:20241103T080000
END:STANDARD
BEGIN:DAYLIGHT
TZOFFSETFROM:-0700
TZOFFSETTO:-0600
TZNAME:MDT
DTSTART:20250309T090000
END:DAYLIGHT
BEGIN:STANDARD
TZOFFSETFROM:-0600
TZOFFSETTO:-0700
TZNAME:MST
DTSTART:20251102T080000
END:STANDARD
BEGIN:DAYLIGHT
TZOFFSETFROM:-0700
TZOFFSETTO:-0600
TZNAME:MDT
DTSTART:20260308T090000
END:DAYLIGHT
BEGIN:STANDARD
TZOFFSETFROM:-0600
TZOFFSETTO:-0700
TZNAME:MST
DTSTART:20261101T080000
END:STANDARD
END:VTIMEZONE
BEGIN:VEVENT
DTSTART;TZID=America/Denver:20250720T083000
DTEND;TZID=America/Denver:20250720T093000
DTSTAMP:20260420T015617
CREATED:20250623T211344Z
LAST-MODIFIED:20250623T211344Z
UID:8492-1753000200-1753003800@ucsjridgway.org
SUMMARY:Choir Practice
DESCRIPTION:For more information contact Katy Kristoffersen\, Director of Music (ucsjmusic@gmail.com).
URL:https://ucsjridgway.org/event/choir-practice-146/
END:VEVENT
BEGIN:VEVENT
DTSTART;TZID=America/Denver:20250719T083000
DTEND;TZID=America/Denver:20250719T123000
DTSTAMP:20260420T015617
CREATED:20250623T212846Z
LAST-MODIFIED:20250623T212846Z
UID:8521-1752913800-1752928200@ucsjridgway.org
SUMMARY:True Grit Breakfast Forum Followed by True Grit Walking Tour of Ridgway
DESCRIPTION:Breakfast Forum will feature local historian Ed Bovy with “Movie Making in SW Colorado.” After the talk\, put on your walking boots for a (free) “True Grit” tour of downtown Ridgway to see some of the actual film locations.
URL:https://ucsjridgway.org/event/true-grit-breakfast-forum-followed-by-true-grit-walking-tour-of-ridgway/
END:VEVENT
BEGIN:VEVENT
DTSTART;TZID=America/Denver:20250718T140000
DTEND;TZID=America/Denver:20250718T170000
DTSTAMP:20260420T015617
CREATED:20250623T212536Z
LAST-MODIFIED:20250623T212536Z
UID:8516-1752847200-1752858000@ucsjridgway.org
SUMMARY:Classic True Grit Film
DESCRIPTION:Join us for a screening of the classic 1969 film\, True Grit\, starring the legendary John Wayne in his Oscar-winning role as Rooster Cogburn. Our movie treats will be “old timey” with root beer floats and corn dodgers. \n 
URL:https://ucsjridgway.org/event/classic-true-grit-film/
END:VEVENT
BEGIN:VEVENT
DTSTART;TZID=America/Denver:20250717T120000
DTEND;TZID=America/Denver:20250717T140000
DTSTAMP:20260420T015617
CREATED:20250623T212413Z
LAST-MODIFIED:20250623T212413Z
UID:8514-1752753600-1752760800@ucsjridgway.org
SUMMARY:Gals’ Lunch at Lisa Young’s Home
DESCRIPTION:Please bring an item for the Ouray Food Pantry… suggestions are easy meals and snacks for summer. Think fruit snacks\, nuts\, whole grain crackers\, and other healthy snacks for children home from school\, lemonade and other powdered drink mixes\, and meal kits\, canned meat other than tuna\, canned soups and stews and other quick-to-fix meals.
URL:https://ucsjridgway.org/event/gals-lunch-at-lisa-youngs-home/
END:VEVENT
BEGIN:VEVENT
DTSTART;TZID=America/Denver:20250714T090000
DTEND;TZID=America/Denver:20250714T100000
DTSTAMP:20260420T015617
CREATED:20250623T211541Z
LAST-MODIFIED:20250623T211541Z
UID:8498-1752483600-1752487200@ucsjridgway.org
SUMMARY:Centering Prayer (via Zoom)
DESCRIPTION:To join the Zoom meeting click here. For more information contact Kathy Graff.
URL:https://ucsjridgway.org/event/centering-prayer-via-zoom-231/
END:VEVENT
BEGIN:VEVENT
DTSTART;TZID=America/Denver:20250713T160000
DTEND;TZID=America/Denver:20250713T170000
DTSTAMP:20260420T015617
CREATED:20250614T144933Z
LAST-MODIFIED:20250614T144950Z
UID:8445-1752422400-1752426000@ucsjridgway.org
SUMMARY:Humans Anonymous
DESCRIPTION:A 5-week long discussion that will present some of the history & practices of 12-step recovery programs\, like Alcoholics Anonymous. Starting from the idea that the 12-step process can be valuable to everyone\, we aim to introduce people who have never attended a 12-step meeting to some of the program’s spiritual insights. We will also discuss how to be a supportive ally to people in 12-step recovery programs. This class is not intended to be a 12-step recovery group. Angela Todd will be presenting this series which meets July 13\, 20\, 27\, and August 3\, and 10.
URL:https://ucsjridgway.org/event/humans-anonymous/
END:VEVENT
BEGIN:VEVENT
DTSTART;TZID=America/Denver:20250713T100000
DTEND;TZID=America/Denver:20250713T110000
DTSTAMP:20260420T015617
CREATED:20250623T211048Z
LAST-MODIFIED:20250623T211048Z
UID:8482-1752400800-1752404400@ucsjridgway.org
SUMMARY:Worship Service
DESCRIPTION:Sunday worship is also videotaped and posted on Facebook\, following the service\, here\, for you to worship at home\, or through our website here. \n 
URL:https://ucsjridgway.org/event/worship-service-181/
END:VEVENT
BEGIN:VEVENT
DTSTART;TZID=America/Denver:20250713T083000
DTEND;TZID=America/Denver:20250713T093000
DTSTAMP:20260420T015617
CREATED:20250623T211314Z
LAST-MODIFIED:20250623T211314Z
UID:8490-1752395400-1752399000@ucsjridgway.org
SUMMARY:Choir Practice
DESCRIPTION:For more information contact Katy Kristoffersen\, Director of Music (ucsjmusic@gmail.com).
URL:https://ucsjridgway.org/event/choir-practice-145/
END:VEVENT
BEGIN:VEVENT
DTSTART;TZID=America/Denver:20250712T083000
DTEND;TZID=America/Denver:20250712T093000
DTSTAMP:20260420T015617
CREATED:20250623T211826Z
LAST-MODIFIED:20250623T211826Z
UID:8506-1752309000-1752312600@ucsjridgway.org
SUMMARY:Men's Bible Study (via Zoom)
DESCRIPTION:To join the Zoom meeting click here.  For more information\, contact Bob Larson.
URL:https://ucsjridgway.org/event/mens-bible-study-via-zoom-209/
END:VEVENT
BEGIN:VEVENT
DTSTART;TZID=America/Denver:20250711T103000
DTEND;TZID=America/Denver:20250711T113000
DTSTAMP:20260420T015617
CREATED:20250623T212144Z
LAST-MODIFIED:20250623T212144Z
UID:8512-1752229800-1752233400@ucsjridgway.org
SUMMARY:Youth Choir Camp Concert
DESCRIPTION:
URL:https://ucsjridgway.org/event/youth-choir-camp-concert/
END:VEVENT
BEGIN:VEVENT
DTSTART;TZID=America/Denver:20250709T140000
DTEND;TZID=America/Denver:20250709T163000
DTSTAMP:20260420T015617
CREATED:20250623T212036Z
LAST-MODIFIED:20250623T212036Z
UID:8510-1752069600-1752078600@ucsjridgway.org
SUMMARY:Administrative Committee Meeting
DESCRIPTION:
URL:https://ucsjridgway.org/event/administrative-committee-meeting-21/
END:VEVENT
BEGIN:VEVENT
DTSTART;TZID=America/Denver:20250707T090000
DTEND;TZID=America/Denver:20250707T100000
DTSTAMP:20260420T015617
CREATED:20250623T211503Z
LAST-MODIFIED:20250623T211503Z
UID:8496-1751878800-1751882400@ucsjridgway.org
SUMMARY:Centering Prayer (via Zoom)
DESCRIPTION:To join the Zoom meeting click here. For more information contact Kathy Graff.
URL:https://ucsjridgway.org/event/centering-prayer-via-zoom-230/
END:VEVENT
BEGIN:VEVENT
DTSTART;TZID=America/Denver:20250706T100000
DTEND;TZID=America/Denver:20250706T110000
DTSTAMP:20260420T015617
CREATED:20250623T210900Z
LAST-MODIFIED:20250623T210900Z
UID:8480-1751796000-1751799600@ucsjridgway.org
SUMMARY:Worship Service with Communion
DESCRIPTION:Sunday worship is also videotaped and posted on Facebook\, following the service\, here\, for you to worship at home\, or through our website here. \n 
URL:https://ucsjridgway.org/event/worship-service-with-communion-48/
END:VEVENT
BEGIN:VEVENT
DTSTART;TZID=America/Denver:20250706T083000
DTEND;TZID=America/Denver:20250706T093000
DTSTAMP:20260420T015617
CREATED:20250623T211240Z
LAST-MODIFIED:20250623T211240Z
UID:8488-1751790600-1751794200@ucsjridgway.org
SUMMARY:Choir Practice
DESCRIPTION:For more information contact Katy Kristoffersen\, Director of Music (ucsjmusic@gmail.com).
URL:https://ucsjridgway.org/event/choir-practice-144/
END:VEVENT
BEGIN:VEVENT
DTSTART;TZID=America/Denver:20250705T083000
DTEND;TZID=America/Denver:20250705T093000
DTSTAMP:20260420T015617
CREATED:20250623T211749Z
LAST-MODIFIED:20250623T211749Z
UID:8504-1751704200-1751707800@ucsjridgway.org
SUMMARY:Men's Bible Study (via Zoom)
DESCRIPTION:To join the Zoom meeting click here.  For more information\, contact Bob Larson.
URL:https://ucsjridgway.org/event/mens-bible-study-via-zoom-208/
END:VEVENT
BEGIN:VEVENT
DTSTART;TZID=America/Denver:20250630T090000
DTEND;TZID=America/Denver:20250630T100000
DTSTAMP:20260420T015617
CREATED:20250519T200029Z
LAST-MODIFIED:20250519T200029Z
UID:8343-1751274000-1751277600@ucsjridgway.org
SUMMARY:Centering Prayer (via Zoom)
DESCRIPTION:To join the Zoom meeting click here. For more information contact Kathy Graff.
URL:https://ucsjridgway.org/event/centering-prayer-via-zoom-229/
END:VEVENT
BEGIN:VEVENT
DTSTART;TZID=America/Denver:20250629T100000
DTEND;TZID=America/Denver:20250629T110000
DTSTAMP:20260420T015617
CREATED:20250519T195756Z
LAST-MODIFIED:20250519T195756Z
UID:8333-1751191200-1751194800@ucsjridgway.org
SUMMARY:Worship Service
DESCRIPTION:Sunday worship is also videotaped and posted on Facebook\, following the service\, here\, for you to worship at home\, or through our website here. \n 
URL:https://ucsjridgway.org/event/worship-service-180/
END:VEVENT
BEGIN:VEVENT
DTSTART;TZID=America/Denver:20250629T083000
DTEND;TZID=America/Denver:20250629T093000
DTSTAMP:20260420T015617
CREATED:20250519T200553Z
LAST-MODIFIED:20250611T194349Z
UID:8363-1751185800-1751189400@ucsjridgway.org
SUMMARY:Choir Practice
DESCRIPTION:For more information contact Katy Kristoffersen\, Director of Music (ucsjmusic@gmail.com).
URL:https://ucsjridgway.org/event/choir-practice-143/
END:VEVENT
BEGIN:VEVENT
DTSTART;TZID=America/Denver:20250628T083000
DTEND;TZID=America/Denver:20250628T093000
DTSTAMP:20260420T015617
CREATED:20250519T200829Z
LAST-MODIFIED:20250519T200829Z
UID:8369-1751099400-1751103000@ucsjridgway.org
SUMMARY:Men's Bible Study (via Zoom)
DESCRIPTION:To join the Zoom meeting click here.  For more information\, contact Bob Larson.
URL:https://ucsjridgway.org/event/mens-bible-study-via-zoom-207/
END:VEVENT
BEGIN:VEVENT
DTSTART;TZID=America/Denver:20250623T090000
DTEND;TZID=America/Denver:20250623T100000
DTSTAMP:20260420T015617
CREATED:20250519T200004Z
LAST-MODIFIED:20250519T200004Z
UID:8341-1750669200-1750672800@ucsjridgway.org
SUMMARY:Centering Prayer (via Zoom)
DESCRIPTION:To join the Zoom meeting click here. For more information contact Kathy Graff.
URL:https://ucsjridgway.org/event/centering-prayer-via-zoom-228/
END:VEVENT
BEGIN:VEVENT
DTSTART;TZID=America/Denver:20250622T120000
DTEND;TZID=America/Denver:20250622T130000
DTSTAMP:20260420T015617
CREATED:20250519T202306Z
LAST-MODIFIED:20250519T202306Z
UID:8383-1750593600-1750597200@ucsjridgway.org
SUMMARY:All Church Indoor Picnic
DESCRIPTION:
URL:https://ucsjridgway.org/event/all-church-indoor-picnic/
END:VEVENT
BEGIN:VEVENT
DTSTART;TZID=America/Denver:20250622T110000
DTEND;TZID=America/Denver:20250622T113000
DTSTAMP:20260420T015617
CREATED:20250519T202221Z
LAST-MODIFIED:20250519T202221Z
UID:8381-1750590000-1750591800@ucsjridgway.org
SUMMARY:UCSJ Annual Meeting
DESCRIPTION:
URL:https://ucsjridgway.org/event/ucsj-annual-meeting/
END:VEVENT
BEGIN:VEVENT
DTSTART;TZID=America/Denver:20250622T100000
DTEND;TZID=America/Denver:20250622T110000
DTSTAMP:20260420T015617
CREATED:20250519T195735Z
LAST-MODIFIED:20250519T195735Z
UID:8331-1750586400-1750590000@ucsjridgway.org
SUMMARY:Worship Service
DESCRIPTION:Sunday worship is also videotaped and posted on Facebook\, following the service\, here\, for you to worship at home\, or through our website here. \n 
URL:https://ucsjridgway.org/event/worship-service-179/
END:VEVENT
BEGIN:VEVENT
DTSTART;TZID=America/Denver:20250622T083000
DTEND;TZID=America/Denver:20250622T093000
DTSTAMP:20260420T015617
CREATED:20250519T200520Z
LAST-MODIFIED:20250611T194317Z
UID:8361-1750581000-1750584600@ucsjridgway.org
SUMMARY:Choir Practice
DESCRIPTION:For more information contact Katy Kristoffersen\, Director of Music (ucsjmusic@gmail.com).
URL:https://ucsjridgway.org/event/choir-practice-142/
END:VEVENT
BEGIN:VEVENT
DTSTART;TZID=America/Denver:20250621T090000
DTEND;TZID=America/Denver:20250621T110000
DTSTAMP:20260420T015617
CREATED:20250519T202122Z
LAST-MODIFIED:20250616T145704Z
UID:8379-1750496400-1750503600@ucsjridgway.org
SUMMARY:UCSJ Breakfast Club
DESCRIPTION:Note the TIME change.  The presenter will be Dennis DeFore\, a Historian from Grand Junction\, and he will talk about Butch Cassidy and The Wild Bunch in the Browns Park area of Colorado. \nPlease sign up in the gathering area.
URL:https://ucsjridgway.org/event/mens-breakfast-12/
END:VEVENT
BEGIN:VEVENT
DTSTART;TZID=America/Denver:20250616T100000
DTEND;TZID=America/Denver:20250616T113000
DTSTAMP:20260420T015617
CREATED:20250519T201813Z
LAST-MODIFIED:20250519T201813Z
UID:8377-1750068000-1750073400@ucsjridgway.org
SUMMARY:On the Same Page Book Club
DESCRIPTION:Reading and discussing The Wedding People by Alison Espach.
URL:https://ucsjridgway.org/event/on-the-same-page-book-club-16/
END:VEVENT
BEGIN:VEVENT
DTSTART;TZID=America/Denver:20250616T090000
DTEND;TZID=America/Denver:20250616T100000
DTSTAMP:20260420T015617
CREATED:20250519T195944Z
LAST-MODIFIED:20250519T195944Z
UID:8339-1750064400-1750068000@ucsjridgway.org
SUMMARY:Centering Prayer (via Zoom)
DESCRIPTION:To join the Zoom meeting click here. For more information contact Kathy Graff.
URL:https://ucsjridgway.org/event/centering-prayer-via-zoom-227/
END:VEVENT
BEGIN:VEVENT
DTSTART;TZID=America/Denver:20250615T100000
DTEND;TZID=America/Denver:20250615T110000
DTSTAMP:20260420T015617
CREATED:20250519T195714Z
LAST-MODIFIED:20250519T195714Z
UID:8329-1749981600-1749985200@ucsjridgway.org
SUMMARY:Worship Service
DESCRIPTION:Sunday worship is also videotaped and posted on Facebook\, following the service\, here\, for you to worship at home\, or through our website here. \n 
URL:https://ucsjridgway.org/event/worship-service-178/
END:VEVENT
BEGIN:VEVENT
DTSTART;TZID=America/Denver:20250615T083000
DTEND;TZID=America/Denver:20250615T093000
DTSTAMP:20260420T015617
CREATED:20250519T200459Z
LAST-MODIFIED:20250611T194215Z
UID:8359-1749976200-1749979800@ucsjridgway.org
SUMMARY:Choir Practice
DESCRIPTION:For more information contact Katy Kristoffersen\, Director of Music (ucsjmusic@gmail.com).
URL:https://ucsjridgway.org/event/choir-practice-141/
END:VEVENT
BEGIN:VEVENT
DTSTART;TZID=America/Denver:20250614T083000
DTEND;TZID=America/Denver:20250614T093000
DTSTAMP:20260420T015617
CREATED:20250519T200808Z
LAST-MODIFIED:20250519T200808Z
UID:8367-1749889800-1749893400@ucsjridgway.org
SUMMARY:Men's Bible Study (via Zoom)
DESCRIPTION:To join the Zoom meeting click here.  For more information\, contact Bob Larson.
URL:https://ucsjridgway.org/event/mens-bible-study-via-zoom-206/
END:VEVENT
END:VCALENDAR