BEGIN:VCALENDAR
VERSION:2.0
PRODID:-//Ridgway United Church of the San Juans - ECPv6.15.18//NONSGML v1.0//EN
CALSCALE:GREGORIAN
METHOD:PUBLISH
X-WR-CALNAME:Ridgway United Church of the San Juans
X-ORIGINAL-URL:https://ucsjridgway.org
X-WR-CALDESC:Events for Ridgway United Church of the San Juans
REFRESH-INTERVAL;VALUE=DURATION:PT1H
X-Robots-Tag:noindex
X-PUBLISHED-TTL:PT1H
BEGIN:VTIMEZONE
TZID:America/Denver
BEGIN:DAYLIGHT
TZOFFSETFROM:-0700
TZOFFSETTO:-0600
TZNAME:MDT
DTSTART:20230312T090000
END:DAYLIGHT
BEGIN:STANDARD
TZOFFSETFROM:-0600
TZOFFSETTO:-0700
TZNAME:MST
DTSTART:20231105T080000
END:STANDARD
BEGIN:DAYLIGHT
TZOFFSETFROM:-0700
TZOFFSETTO:-0600
TZNAME:MDT
DTSTART:20240310T090000
END:DAYLIGHT
BEGIN:STANDARD
TZOFFSETFROM:-0600
TZOFFSETTO:-0700
TZNAME:MST
DTSTART:20241103T080000
END:STANDARD
BEGIN:DAYLIGHT
TZOFFSETFROM:-0700
TZOFFSETTO:-0600
TZNAME:MDT
DTSTART:20250309T090000
END:DAYLIGHT
BEGIN:STANDARD
TZOFFSETFROM:-0600
TZOFFSETTO:-0700
TZNAME:MST
DTSTART:20251102T080000
END:STANDARD
BEGIN:DAYLIGHT
TZOFFSETFROM:-0700
TZOFFSETTO:-0600
TZNAME:MDT
DTSTART:20260308T090000
END:DAYLIGHT
BEGIN:STANDARD
TZOFFSETFROM:-0600
TZOFFSETTO:-0700
TZNAME:MST
DTSTART:20261101T080000
END:STANDARD
END:VTIMEZONE
BEGIN:VEVENT
DTSTART;TZID=America/Denver:20250608T100000
DTEND;TZID=America/Denver:20250608T110000
DTSTAMP:20260420T192743
CREATED:20250519T195655Z
LAST-MODIFIED:20250519T195655Z
UID:8327-1749376800-1749380400@ucsjridgway.org
SUMMARY:Worship Service
DESCRIPTION:Sunday worship is also videotaped and posted on Facebook\, following the service\, here\, for you to worship at home\, or through our website here. \n 
URL:https://ucsjridgway.org/event/worship-service-177/
END:VEVENT
BEGIN:VEVENT
DTSTART;TZID=America/Denver:20241028T090000
DTEND;TZID=America/Denver:20241028T100000
DTSTAMP:20260420T192743
CREATED:20240921T195514Z
LAST-MODIFIED:20240921T195514Z
UID:7450-1730106000-1730109600@ucsjridgway.org
SUMMARY:Centering Prayer (via Zoom)
DESCRIPTION:For more information\, contact Kathy Graff.
URL:https://ucsjridgway.org/event/centering-prayer-via-zoom-194/
END:VEVENT
BEGIN:VEVENT
DTSTART;TZID=America/Denver:20241027T100000
DTEND;TZID=America/Denver:20241027T110000
DTSTAMP:20260420T192743
CREATED:20240921T195245Z
LAST-MODIFIED:20240921T195245Z
UID:7442-1730023200-1730026800@ucsjridgway.org
SUMMARY:Worship Service
DESCRIPTION:Sunday worship is also videotaped and posted on Facebook\, following the service\, here\, for you to worship at home\, or through our website here. \n 
URL:https://ucsjridgway.org/event/worship-service-153/
END:VEVENT
BEGIN:VEVENT
DTSTART;TZID=America/Denver:20241026T083000
DTEND;TZID=America/Denver:20241026T093000
DTSTAMP:20260420T192743
CREATED:20240921T201011Z
LAST-MODIFIED:20240921T201011Z
UID:7488-1729931400-1729935000@ucsjridgway.org
SUMMARY:Men's Bible Study (via Zoom)
DESCRIPTION:For more information\, contact Bob Larson.
URL:https://ucsjridgway.org/event/mens-bible-study-via-zoom-179/
END:VEVENT
BEGIN:VEVENT
DTSTART;TZID=America/Denver:20241024T163000
DTEND;TZID=America/Denver:20241024T173000
DTSTAMP:20260420T192743
CREATED:20240921T200642Z
LAST-MODIFIED:20241018T184810Z
UID:7478-1729787400-1729791000@ucsjridgway.org
SUMMARY:Choir Practice
DESCRIPTION:For more information contact Katy Kristoffersen.
URL:https://ucsjridgway.org/event/choir-practice-109/
END:VEVENT
BEGIN:VEVENT
DTSTART;TZID=America/Denver:20241024T090000
DTEND;TZID=America/Denver:20241024T100000
DTSTAMP:20260420T192743
CREATED:20240921T200201Z
LAST-MODIFIED:20240921T202303Z
UID:7468-1729760400-1729764000@ucsjridgway.org
SUMMARY:Women's Bible Study (via Zoom)
DESCRIPTION:For more information\, contact Donna Whiskeman.
URL:https://ucsjridgway.org/event/womens-bible-study-via-zoom-177/
END:VEVENT
BEGIN:VEVENT
DTSTART;TZID=America/Denver:20241023T163000
DTEND;TZID=America/Denver:20241023T190000
DTSTAMP:20260420T192743
CREATED:20240921T195821Z
LAST-MODIFIED:20240921T195821Z
UID:7458-1729701000-1729710000@ucsjridgway.org
SUMMARY:Community Learning
DESCRIPTION:Join us at 4:30 PM to discuss one of the following books: \n\nThe Gnostic Gospels\, by Elaine Pagels\nDesire of the Everlasting Hills: The World Before and After Jesus\, by Thomas Cahill\nReading Genesis by Marilynne Robinson\n\nFollowed by soup supper at 6 PM (September 18 through November 13).
URL:https://ucsjridgway.org/event/community-learning-54/
END:VEVENT
BEGIN:VEVENT
DTSTART;TZID=America/Denver:20241023T120000
DTEND;TZID=America/Denver:20241023T140000
DTSTAMP:20260420T192743
CREATED:20240921T201410Z
LAST-MODIFIED:20240921T201410Z
UID:7494-1729684800-1729692000@ucsjridgway.org
SUMMARY:Gal's Lunch
DESCRIPTION:Contact Carolyn Snowbarger for details.
URL:https://ucsjridgway.org/event/gals-lunch-19/
END:VEVENT
BEGIN:VEVENT
DTSTART;TZID=America/Denver:20241021T090000
DTEND;TZID=America/Denver:20241021T100000
DTSTAMP:20260420T192743
CREATED:20240921T195436Z
LAST-MODIFIED:20240921T195436Z
UID:7448-1729501200-1729504800@ucsjridgway.org
SUMMARY:Centering Prayer (via Zoom)
DESCRIPTION:For more information\, contact Kathy Graff.
URL:https://ucsjridgway.org/event/centering-prayer-via-zoom-193/
END:VEVENT
BEGIN:VEVENT
DTSTART;TZID=America/Denver:20241020T100000
DTEND;TZID=America/Denver:20241020T110000
DTSTAMP:20260420T192743
CREATED:20240921T195204Z
LAST-MODIFIED:20240921T195204Z
UID:7440-1729418400-1729422000@ucsjridgway.org
SUMMARY:Worship Service
DESCRIPTION:Sunday worship is also videotaped and posted on Facebook\, following the service\, here\, for you to worship at home\, or through our website here. \n 
URL:https://ucsjridgway.org/event/worship-service-152/
END:VEVENT
BEGIN:VEVENT
DTSTART;TZID=America/Denver:20241019T083000
DTEND;TZID=America/Denver:20241019T110000
DTSTAMP:20260420T192743
CREATED:20240921T201109Z
LAST-MODIFIED:20240921T201109Z
UID:7490-1729326600-1729335600@ucsjridgway.org
SUMMARY:Men's Breakfast
DESCRIPTION:
URL:https://ucsjridgway.org/event/mens-breakfast-8/
END:VEVENT
BEGIN:VEVENT
DTSTART;TZID=America/Denver:20241017T160000
DTEND;TZID=America/Denver:20241017T170000
DTSTAMP:20260420T192743
CREATED:20240921T200607Z
LAST-MODIFIED:20240921T200607Z
UID:7476-1729180800-1729184400@ucsjridgway.org
SUMMARY:Choir Practice
DESCRIPTION:For more information contact Katy Kristoffersen.
URL:https://ucsjridgway.org/event/choir-practice-108/
END:VEVENT
BEGIN:VEVENT
DTSTART;TZID=America/Denver:20241017T090000
DTEND;TZID=America/Denver:20241017T100000
DTSTAMP:20260420T192743
CREATED:20240921T200136Z
LAST-MODIFIED:20240921T202207Z
UID:7466-1729155600-1729159200@ucsjridgway.org
SUMMARY:Women's Bible Study (via Zoom)
DESCRIPTION:For more information\, contact Donna Whiskeman.
URL:https://ucsjridgway.org/event/womens-bible-study-via-zoom-176/
END:VEVENT
BEGIN:VEVENT
DTSTART;TZID=America/Denver:20241016T163000
DTEND;TZID=America/Denver:20241016T190000
DTSTAMP:20260420T192743
CREATED:20240921T195754Z
LAST-MODIFIED:20240921T195754Z
UID:7456-1729096200-1729105200@ucsjridgway.org
SUMMARY:Community Learning
DESCRIPTION:Join us at 4:30 PM to discuss one of the following books: \n\nThe Gnostic Gospels\, by Elaine Pagels\nDesire of the Everlasting Hills: The World Before and After Jesus\, by Thomas Cahill\nReading Genesis by Marilynne Robinson\n\nFollowed by soup supper at 6 PM (September 18 through November 13).
URL:https://ucsjridgway.org/event/community-learning-53/
END:VEVENT
BEGIN:VEVENT
DTSTART;TZID=America/Denver:20241014T090000
DTEND;TZID=America/Denver:20241014T100000
DTSTAMP:20260420T192743
CREATED:20240921T195402Z
LAST-MODIFIED:20240921T195402Z
UID:7446-1728896400-1728900000@ucsjridgway.org
SUMMARY:Centering Prayer (via Zoom)
DESCRIPTION:For more information\, contact Kathy Graff.
URL:https://ucsjridgway.org/event/centering-prayer-via-zoom-192/
END:VEVENT
BEGIN:VEVENT
DTSTART;TZID=America/Denver:20241013T100000
DTEND;TZID=America/Denver:20241013T110000
DTSTAMP:20260420T192743
CREATED:20240921T195128Z
LAST-MODIFIED:20240921T195128Z
UID:7438-1728813600-1728817200@ucsjridgway.org
SUMMARY:Worship Service
DESCRIPTION:Sunday worship is also videotaped and posted on Facebook\, following the service\, here\, for you to worship at home\, or through our website here. \n 
URL:https://ucsjridgway.org/event/worship-service-151/
END:VEVENT
BEGIN:VEVENT
DTSTART;TZID=America/Denver:20241012T170000
DTEND;TZID=America/Denver:20241012T193000
DTSTAMP:20260420T192743
CREATED:20240921T201301Z
LAST-MODIFIED:20240921T201301Z
UID:7492-1728752400-1728761400@ucsjridgway.org
SUMMARY:Remember When - Fall Gatherings
DESCRIPTION:Contact Carolyn Snowbarger for details.
URL:https://ucsjridgway.org/event/remember-when-fall-gatherings/
END:VEVENT
BEGIN:VEVENT
DTSTART;TZID=America/Denver:20241012T083000
DTEND;TZID=America/Denver:20241012T093000
DTSTAMP:20260420T192743
CREATED:20240921T200844Z
LAST-MODIFIED:20240921T200844Z
UID:7484-1728721800-1728725400@ucsjridgway.org
SUMMARY:Men's Bible Study (via Zoom)
DESCRIPTION:For more information\, contact Bob Larson.
URL:https://ucsjridgway.org/event/mens-bible-study-via-zoom-177/
END:VEVENT
BEGIN:VEVENT
DTSTART;TZID=America/Denver:20241010T160000
DTEND;TZID=America/Denver:20241010T170000
DTSTAMP:20260420T192743
CREATED:20240921T200534Z
LAST-MODIFIED:20240921T200534Z
UID:7474-1728576000-1728579600@ucsjridgway.org
SUMMARY:Choir Practice
DESCRIPTION:For more information contact Katy Kristoffersen.
URL:https://ucsjridgway.org/event/choir-practice-107/
END:VEVENT
BEGIN:VEVENT
DTSTART;TZID=America/Denver:20241010T090000
DTEND;TZID=America/Denver:20241010T100000
DTSTAMP:20260420T192743
CREATED:20240921T200044Z
LAST-MODIFIED:20240921T202123Z
UID:7464-1728550800-1728554400@ucsjridgway.org
SUMMARY:Women's Bible Study (via Zoom)
DESCRIPTION:For more information\, contact Donna Whiskeman.
URL:https://ucsjridgway.org/event/womens-bible-study-via-zoom-175/
END:VEVENT
BEGIN:VEVENT
DTSTART;TZID=America/Denver:20241009T163000
DTEND;TZID=America/Denver:20241009T190000
DTSTAMP:20260420T192743
CREATED:20240921T195718Z
LAST-MODIFIED:20240921T195718Z
UID:7454-1728491400-1728500400@ucsjridgway.org
SUMMARY:Community Learning
DESCRIPTION:Join us at 4:30 PM to discuss one of the following books: \n\nThe Gnostic Gospels\, by Elaine Pagels\nDesire of the Everlasting Hills: The World Before and After Jesus\, by Thomas Cahill\nReading Genesis by Marilynne Robinson\n\nFollowed by soup supper at 6 PM (September 18 through November 13).
URL:https://ucsjridgway.org/event/community-learning-52/
END:VEVENT
BEGIN:VEVENT
DTSTART;TZID=America/Denver:20241009T140000
DTEND;TZID=America/Denver:20241009T170000
DTSTAMP:20260420T192743
CREATED:20240921T194905Z
LAST-MODIFIED:20240921T194905Z
UID:7436-1728482400-1728493200@ucsjridgway.org
SUMMARY:Administrative Committee Meeting
DESCRIPTION:
URL:https://ucsjridgway.org/event/administrative-committee-meeting-17/
END:VEVENT
BEGIN:VEVENT
DTSTART;TZID=America/Denver:20241007T090000
DTEND;TZID=America/Denver:20241007T100000
DTSTAMP:20260420T192743
CREATED:20240921T195326Z
LAST-MODIFIED:20240921T195326Z
UID:7444-1728291600-1728295200@ucsjridgway.org
SUMMARY:Centering Prayer (via Zoom)
DESCRIPTION:For more information\, contact Kathy Graff.
URL:https://ucsjridgway.org/event/centering-prayer-via-zoom-191/
END:VEVENT
BEGIN:VEVENT
DTSTART;TZID=America/Denver:20241006T100000
DTEND;TZID=America/Denver:20241006T110000
DTSTAMP:20260420T192743
CREATED:20240921T194806Z
LAST-MODIFIED:20240921T194806Z
UID:7434-1728208800-1728212400@ucsjridgway.org
SUMMARY:Worship Service with Communion
DESCRIPTION:Sunday worship is also videotaped and posted on Facebook\, following the service\, here\, for you to worship at home\, or through our website here. \n 
URL:https://ucsjridgway.org/event/worship-service-with-communion-39/
END:VEVENT
BEGIN:VEVENT
DTSTART;TZID=America/Denver:20241005T083000
DTEND;TZID=America/Denver:20241005T093000
DTSTAMP:20260420T192743
CREATED:20240921T200805Z
LAST-MODIFIED:20240921T200805Z
UID:7482-1728117000-1728120600@ucsjridgway.org
SUMMARY:Men's Bible Study (via Zoom)
DESCRIPTION:For more information\, contact Bob Larson.
URL:https://ucsjridgway.org/event/mens-bible-study-via-zoom-176/
END:VEVENT
BEGIN:VEVENT
DTSTART;TZID=America/Denver:20241003T160000
DTEND;TZID=America/Denver:20241003T170000
DTSTAMP:20260420T192743
CREATED:20240921T200446Z
LAST-MODIFIED:20240921T200446Z
UID:7472-1727971200-1727974800@ucsjridgway.org
SUMMARY:Choir Practice
DESCRIPTION:For more information contact Katy Kristoffersen.
URL:https://ucsjridgway.org/event/choir-practice-106/
END:VEVENT
BEGIN:VEVENT
DTSTART;TZID=America/Denver:20241003T090000
DTEND;TZID=America/Denver:20241003T100000
DTSTAMP:20260420T192743
CREATED:20240921T195957Z
LAST-MODIFIED:20240921T202035Z
UID:7462-1727946000-1727949600@ucsjridgway.org
SUMMARY:Women's Bible Study (via Zoom)
DESCRIPTION:For more information\, contact Donna Whiskeman.
URL:https://ucsjridgway.org/event/womens-bible-study-via-zoom-174/
END:VEVENT
BEGIN:VEVENT
DTSTART;TZID=America/Denver:20241002T163000
DTEND;TZID=America/Denver:20241002T190000
DTSTAMP:20260420T192743
CREATED:20240921T195637Z
LAST-MODIFIED:20240921T195637Z
UID:7452-1727886600-1727895600@ucsjridgway.org
SUMMARY:Community Learning
DESCRIPTION:Join us at 4:30 PM to discuss one of the following books: \n\nThe Gnostic Gospels\, by Elaine Pagels\nDesire of the Everlasting Hills: The World Before and After Jesus\, by Thomas Cahill\nReading Genesis by Marilynne Robinson\n\nFollowed by soup supper at 6 PM (September 18 through November 13).
URL:https://ucsjridgway.org/event/community-learning-51/
END:VEVENT
BEGIN:VEVENT
DTSTART;TZID=America/Denver:20240930T100000
DTEND;TZID=America/Denver:20240930T113000
DTSTAMP:20260420T192743
CREATED:20240819T213327Z
LAST-MODIFIED:20240819T213327Z
UID:7396-1727690400-1727695800@ucsjridgway.org
SUMMARY:On the Same Page Book Club
DESCRIPTION:The book What I Know Now: Letters to My Younger Self by Ellen Sprague will be discussed.
URL:https://ucsjridgway.org/event/on-the-same-page-book-club-12/
END:VEVENT
BEGIN:VEVENT
DTSTART;TZID=America/Denver:20240930T090000
DTEND;TZID=America/Denver:20240930T100000
DTSTAMP:20260420T192743
CREATED:20240819T205702Z
LAST-MODIFIED:20240819T205702Z
UID:7362-1727686800-1727690400@ucsjridgway.org
SUMMARY:Centering Prayer (via Zoom)
DESCRIPTION:For more information\, contact Kathy Graff.
URL:https://ucsjridgway.org/event/centering-prayer-via-zoom-190/
END:VEVENT
END:VCALENDAR