BEGIN:VCALENDAR
VERSION:2.0
PRODID:-//Ridgway United Church of the San Juans - ECPv6.15.18//NONSGML v1.0//EN
CALSCALE:GREGORIAN
METHOD:PUBLISH
X-WR-CALNAME:Ridgway United Church of the San Juans
X-ORIGINAL-URL:https://ucsjridgway.org
X-WR-CALDESC:Events for Ridgway United Church of the San Juans
REFRESH-INTERVAL;VALUE=DURATION:PT1H
X-Robots-Tag:noindex
X-PUBLISHED-TTL:PT1H
BEGIN:VTIMEZONE
TZID:America/Denver
BEGIN:DAYLIGHT
TZOFFSETFROM:-0700
TZOFFSETTO:-0600
TZNAME:MDT
DTSTART:20230312T090000
END:DAYLIGHT
BEGIN:STANDARD
TZOFFSETFROM:-0600
TZOFFSETTO:-0700
TZNAME:MST
DTSTART:20231105T080000
END:STANDARD
BEGIN:DAYLIGHT
TZOFFSETFROM:-0700
TZOFFSETTO:-0600
TZNAME:MDT
DTSTART:20240310T090000
END:DAYLIGHT
BEGIN:STANDARD
TZOFFSETFROM:-0600
TZOFFSETTO:-0700
TZNAME:MST
DTSTART:20241103T080000
END:STANDARD
BEGIN:DAYLIGHT
TZOFFSETFROM:-0700
TZOFFSETTO:-0600
TZNAME:MDT
DTSTART:20250309T090000
END:DAYLIGHT
BEGIN:STANDARD
TZOFFSETFROM:-0600
TZOFFSETTO:-0700
TZNAME:MST
DTSTART:20251102T080000
END:STANDARD
END:VTIMEZONE
BEGIN:VEVENT
DTSTART;TZID=America/Denver:20240915T100000
DTEND;TZID=America/Denver:20240915T110000
DTSTAMP:20260420T224800
CREATED:20240819T205435Z
LAST-MODIFIED:20240819T205435Z
UID:7350-1726394400-1726398000@ucsjridgway.org
SUMMARY:Worship Service
DESCRIPTION:Sunday worship is also videotaped and posted on Facebook\, following the service\, here\, for you to worship at home\, or through our website here. \n 
URL:https://ucsjridgway.org/event/worship-service-148/
END:VEVENT
BEGIN:VEVENT
DTSTART;TZID=America/Denver:20240914T083000
DTEND;TZID=America/Denver:20240914T093000
DTSTAMP:20260420T224800
CREATED:20240819T212028Z
LAST-MODIFIED:20240819T212028Z
UID:7381-1726302600-1726306200@ucsjridgway.org
SUMMARY:Men's Bible Study (via Zoom)
DESCRIPTION:For more information\, contact Bob Larson.
URL:https://ucsjridgway.org/event/mens-bible-study-via-zoom-174/
END:VEVENT
BEGIN:VEVENT
DTSTART;TZID=America/Denver:20240912T160000
DTEND;TZID=America/Denver:20240912T170000
DTSTAMP:20260420T224800
CREATED:20240819T211833Z
LAST-MODIFIED:20240819T211833Z
UID:7373-1726156800-1726160400@ucsjridgway.org
SUMMARY:Choir Practice
DESCRIPTION:For more information contact Katy Kristoffersen.
URL:https://ucsjridgway.org/event/choir-practice-103/
END:VEVENT
BEGIN:VEVENT
DTSTART;TZID=America/Denver:20240912T093000
DTEND;TZID=America/Denver:20240912T103000
DTSTAMP:20260420T224800
CREATED:20240819T210444Z
LAST-MODIFIED:20240819T210444Z
UID:7364-1726133400-1726137000@ucsjridgway.org
SUMMARY:Women's Bible Study (via Zoom)
DESCRIPTION:For more information\, contact Donna Whiskeman.
URL:https://ucsjridgway.org/event/womens-bible-study-via-zoom-171/
END:VEVENT
BEGIN:VEVENT
DTSTART;TZID=America/Denver:20240911T140000
DTEND;TZID=America/Denver:20240911T170000
DTSTAMP:20260420T224800
CREATED:20240819T212439Z
LAST-MODIFIED:20240819T212439Z
UID:7387-1726063200-1726074000@ucsjridgway.org
SUMMARY:Administrative Committee Meeting
DESCRIPTION:
URL:https://ucsjridgway.org/event/administrative-committee-meeting-16/
END:VEVENT
BEGIN:VEVENT
DTSTART;TZID=America/Denver:20240909T090000
DTEND;TZID=America/Denver:20240909T100000
DTSTAMP:20260420T224800
CREATED:20240819T205602Z
LAST-MODIFIED:20240819T205602Z
UID:7356-1725872400-1725876000@ucsjridgway.org
SUMMARY:Centering Prayer (via Zoom)
DESCRIPTION:For more information\, contact Kathy Graff.
URL:https://ucsjridgway.org/event/centering-prayer-via-zoom-187/
END:VEVENT
BEGIN:VEVENT
DTSTART;TZID=America/Denver:20240908T100000
DTEND;TZID=America/Denver:20240908T110000
DTSTAMP:20260420T224800
CREATED:20240819T205414Z
LAST-MODIFIED:20240819T205414Z
UID:7348-1725789600-1725793200@ucsjridgway.org
SUMMARY:Worship Service
DESCRIPTION:Sunday worship is also videotaped and posted on Facebook\, following the service\, here\, for you to worship at home\, or through our website here. \n 
URL:https://ucsjridgway.org/event/worship-service-147/
END:VEVENT
BEGIN:VEVENT
DTSTART;TZID=America/Denver:20240907T130000
DTEND;TZID=America/Denver:20240907T143000
DTSTAMP:20260420T224800
CREATED:20240819T212337Z
LAST-MODIFIED:20240819T212337Z
UID:7385-1725714000-1725719400@ucsjridgway.org
SUMMARY:High Tea at Stone House\, Montrose
DESCRIPTION:Contact Carolyn Snowbarger for more information.
URL:https://ucsjridgway.org/event/high-tea-at-stone-house-montrose/
END:VEVENT
BEGIN:VEVENT
DTSTART;TZID=America/Denver:20240907T083000
DTEND;TZID=America/Denver:20240907T093000
DTSTAMP:20260420T224800
CREATED:20240819T212000Z
LAST-MODIFIED:20240819T212000Z
UID:7379-1725697800-1725701400@ucsjridgway.org
SUMMARY:Men's Bible Study (via Zoom)
DESCRIPTION:For more information\, contact Bob Larson.
URL:https://ucsjridgway.org/event/mens-bible-study-via-zoom-173/
END:VEVENT
BEGIN:VEVENT
DTSTART;TZID=America/Denver:20240905T160000
DTEND;TZID=America/Denver:20240905T170000
DTSTAMP:20260420T224800
CREATED:20240819T211804Z
LAST-MODIFIED:20240819T211804Z
UID:7371-1725552000-1725555600@ucsjridgway.org
SUMMARY:Choir Practice
DESCRIPTION:For more information contact Katy Kristoffersen.
URL:https://ucsjridgway.org/event/choir-practice-102/
END:VEVENT
BEGIN:VEVENT
DTSTART;TZID=America/Denver:20240901T100000
DTEND;TZID=America/Denver:20240901T110000
DTSTAMP:20260420T224800
CREATED:20240819T205248Z
LAST-MODIFIED:20240819T205248Z
UID:7346-1725184800-1725188400@ucsjridgway.org
SUMMARY:Worship Service with Communion
DESCRIPTION:Sunday worship is also videotaped and posted on Facebook\, following the service\, here\, for you to worship at home\, or through our website here. \n 
URL:https://ucsjridgway.org/event/worship-service-with-communion-38/
END:VEVENT
BEGIN:VEVENT
DTSTART;TZID=America/Denver:20240831T083000
DTEND;TZID=America/Denver:20240831T093000
DTSTAMP:20260420T224800
CREATED:20240722T150428Z
LAST-MODIFIED:20240722T150428Z
UID:7307-1725093000-1725096600@ucsjridgway.org
SUMMARY:Men's Bible Study (via Zoom)
DESCRIPTION:For more information\, contact Bob Larson.
URL:https://ucsjridgway.org/event/mens-bible-study-via-zoom-172/
END:VEVENT
BEGIN:VEVENT
DTSTART;TZID=America/Denver:20240828T160000
DTEND;TZID=America/Denver:20240828T170000
DTSTAMP:20260420T224800
CREATED:20240722T150200Z
LAST-MODIFIED:20240819T210919Z
UID:7299-1724860800-1724864400@ucsjridgway.org
SUMMARY:Choir Practice
DESCRIPTION:For more information contact Katy Kristoffersen.
URL:https://ucsjridgway.org/event/choir-practice-101/
END:VEVENT
BEGIN:VEVENT
DTSTART;TZID=America/Denver:20240826T100000
DTEND;TZID=America/Denver:20240826T113000
DTSTAMP:20260420T224800
CREATED:20240722T152136Z
LAST-MODIFIED:20240722T152136Z
UID:7319-1724666400-1724671800@ucsjridgway.org
SUMMARY:On the Same Page Book Club
DESCRIPTION:We will be discussing the book Go as a River by Shelley Read.
URL:https://ucsjridgway.org/event/on-the-same-page-book-club-11/
END:VEVENT
BEGIN:VEVENT
DTSTART;TZID=America/Denver:20240826T090000
DTEND;TZID=America/Denver:20240826T100000
DTSTAMP:20260420T224800
CREATED:20240722T145652Z
LAST-MODIFIED:20240722T145652Z
UID:7281-1724662800-1724666400@ucsjridgway.org
SUMMARY:Centering Prayer (via Zoom)
DESCRIPTION:For more information\, contact Kathy Graff.
URL:https://ucsjridgway.org/event/centering-prayer-via-zoom-186/
END:VEVENT
BEGIN:VEVENT
DTSTART;TZID=America/Denver:20240825T100000
DTEND;TZID=America/Denver:20240825T110000
DTSTAMP:20260420T224800
CREATED:20240722T145421Z
LAST-MODIFIED:20240722T145421Z
UID:7273-1724580000-1724583600@ucsjridgway.org
SUMMARY:Worship Service
DESCRIPTION:Sunday worship is also videotaped and posted on Facebook\, following the service\, here\, for you to worship at home\, or through our website here. \n 
URL:https://ucsjridgway.org/event/worship-service-146/
END:VEVENT
BEGIN:VEVENT
DTSTART;TZID=America/Denver:20240824T083000
DTEND;TZID=America/Denver:20240824T093000
DTSTAMP:20260420T224800
CREATED:20240722T150355Z
LAST-MODIFIED:20240722T150355Z
UID:7305-1724488200-1724491800@ucsjridgway.org
SUMMARY:Men's Bible Study (via Zoom)
DESCRIPTION:For more information\, contact Bob Larson.
URL:https://ucsjridgway.org/event/mens-bible-study-via-zoom-171/
END:VEVENT
BEGIN:VEVENT
DTSTART;TZID=America/Denver:20240821T160000
DTEND;TZID=America/Denver:20240821T170000
DTSTAMP:20260420T224800
CREATED:20240722T150143Z
LAST-MODIFIED:20240819T210943Z
UID:7297-1724256000-1724259600@ucsjridgway.org
SUMMARY:Choir Practice
DESCRIPTION:For more information contact Katy Kristoffersen.
URL:https://ucsjridgway.org/event/choir-practice-100/
END:VEVENT
BEGIN:VEVENT
DTSTART;TZID=America/Denver:20240820T170000
DTEND;TZID=America/Denver:20240820T190000
DTSTAMP:20260420T224800
CREATED:20240722T151830Z
LAST-MODIFIED:20240722T151830Z
UID:7317-1724173200-1724180400@ucsjridgway.org
SUMMARY:Ladies Happy Hour
DESCRIPTION:Contact Carolyn Snowbarger for more information.
URL:https://ucsjridgway.org/event/ladies-happy-hour-2/
END:VEVENT
BEGIN:VEVENT
DTSTART;TZID=America/Denver:20240819T100000
DTEND;TZID=America/Denver:20240819T113000
DTSTAMP:20260420T224800
CREATED:20240722T150653Z
LAST-MODIFIED:20240723T215717Z
UID:7309-1724061600-1724067000@ucsjridgway.org
SUMMARY:Where Does the West Begin in America?
DESCRIPTION:
URL:https://ucsjridgway.org/event/where-does-the-west-begin-in-america/
END:VEVENT
BEGIN:VEVENT
DTSTART;TZID=America/Denver:20240819T090000
DTEND;TZID=America/Denver:20240819T100000
DTSTAMP:20260420T224800
CREATED:20240722T145612Z
LAST-MODIFIED:20240722T145612Z
UID:7279-1724058000-1724061600@ucsjridgway.org
SUMMARY:Centering Prayer (via Zoom)
DESCRIPTION:For more information\, contact Kathy Graff.
URL:https://ucsjridgway.org/event/centering-prayer-via-zoom-185/
END:VEVENT
BEGIN:VEVENT
DTSTART;TZID=America/Denver:20240818T160000
DTEND;TZID=America/Denver:20240818T173000
DTSTAMP:20260420T224800
CREATED:20240722T151646Z
LAST-MODIFIED:20240802T195859Z
UID:7315-1723996800-1724002200@ucsjridgway.org
SUMMARY:CANCELLED - Sunday Sundae Piano Recital
DESCRIPTION:
URL:https://ucsjridgway.org/event/sunday-sundae-piano-recital/
END:VEVENT
BEGIN:VEVENT
DTSTART;TZID=America/Denver:20240818T100000
DTEND;TZID=America/Denver:20240818T110000
DTSTAMP:20260420T224800
CREATED:20240722T145349Z
LAST-MODIFIED:20240722T145349Z
UID:7271-1723975200-1723978800@ucsjridgway.org
SUMMARY:Worship Service
DESCRIPTION:Sunday worship is also videotaped and posted on Facebook\, following the service\, here\, for you to worship at home\, or through our website here. \n 
URL:https://ucsjridgway.org/event/worship-service-145/
END:VEVENT
BEGIN:VEVENT
DTSTART;TZID=America/Denver:20240817T083000
DTEND;TZID=America/Denver:20240817T103000
DTSTAMP:20260420T224800
CREATED:20240722T151454Z
LAST-MODIFIED:20240722T152328Z
UID:7313-1723883400-1723890600@ucsjridgway.org
SUMMARY:COED (Men’s) Potluck Breakfast
DESCRIPTION:C J Brafford will be talking about her experiences as a tribal member and her work at the Ute Museum in Montrose.
URL:https://ucsjridgway.org/event/coed-mens-potluck-breakfast-2/
END:VEVENT
BEGIN:VEVENT
DTSTART;TZID=America/Denver:20240815T160000
DTEND;TZID=America/Denver:20240815T170000
DTSTAMP:20260420T224800
CREATED:20240722T150123Z
LAST-MODIFIED:20240722T150123Z
UID:7295-1723737600-1723741200@ucsjridgway.org
SUMMARY:Choir Practice
DESCRIPTION:For more information contact Katy Kristoffersen.
URL:https://ucsjridgway.org/event/choir-practice-99/
END:VEVENT
BEGIN:VEVENT
DTSTART;TZID=America/Denver:20240814T140000
DTEND;TZID=America/Denver:20240814T163000
DTSTAMP:20260420T224800
CREATED:20240722T150916Z
LAST-MODIFIED:20240722T150916Z
UID:7311-1723644000-1723653000@ucsjridgway.org
SUMMARY:Full Council Meeting
DESCRIPTION:
URL:https://ucsjridgway.org/event/full-council-meeting-11/
END:VEVENT
BEGIN:VEVENT
DTSTART;TZID=America/Denver:20240812T090000
DTEND;TZID=America/Denver:20240812T100000
DTSTAMP:20260420T224800
CREATED:20240722T145545Z
LAST-MODIFIED:20240722T145545Z
UID:7277-1723453200-1723456800@ucsjridgway.org
SUMMARY:Centering Prayer (via Zoom)
DESCRIPTION:For more information\, contact Kathy Graff.
URL:https://ucsjridgway.org/event/centering-prayer-via-zoom-184/
END:VEVENT
BEGIN:VEVENT
DTSTART;TZID=America/Denver:20240811T100000
DTEND;TZID=America/Denver:20240811T110000
DTSTAMP:20260420T224800
CREATED:20240722T145330Z
LAST-MODIFIED:20240722T145330Z
UID:7269-1723370400-1723374000@ucsjridgway.org
SUMMARY:Worship Service
DESCRIPTION:Sunday worship is also videotaped and posted on Facebook\, following the service\, here\, for you to worship at home\, or through our website here. \n 
URL:https://ucsjridgway.org/event/worship-service-144/
END:VEVENT
BEGIN:VEVENT
DTSTART;TZID=America/Denver:20240810T083000
DTEND;TZID=America/Denver:20240810T093000
DTSTAMP:20260420T224800
CREATED:20240722T150317Z
LAST-MODIFIED:20240722T150317Z
UID:7303-1723278600-1723282200@ucsjridgway.org
SUMMARY:Men's Bible Study (via Zoom)
DESCRIPTION:For more information\, contact Bob Larson.
URL:https://ucsjridgway.org/event/mens-bible-study-via-zoom-170/
END:VEVENT
BEGIN:VEVENT
DTSTART;TZID=America/Denver:20240808T160000
DTEND;TZID=America/Denver:20240808T170000
DTSTAMP:20260420T224800
CREATED:20240722T150102Z
LAST-MODIFIED:20240722T150102Z
UID:7293-1723132800-1723136400@ucsjridgway.org
SUMMARY:Choir Practice
DESCRIPTION:For more information contact Katy Kristoffersen.
URL:https://ucsjridgway.org/event/choir-practice-98/
END:VEVENT
END:VCALENDAR