BEGIN:VCALENDAR
VERSION:2.0
PRODID:-//Ridgway United Church of the San Juans - ECPv6.15.18//NONSGML v1.0//EN
CALSCALE:GREGORIAN
METHOD:PUBLISH
X-WR-CALNAME:Ridgway United Church of the San Juans
X-ORIGINAL-URL:https://ucsjridgway.org
X-WR-CALDESC:Events for Ridgway United Church of the San Juans
REFRESH-INTERVAL;VALUE=DURATION:PT1H
X-Robots-Tag:noindex
X-PUBLISHED-TTL:PT1H
BEGIN:VTIMEZONE
TZID:America/Denver
BEGIN:DAYLIGHT
TZOFFSETFROM:-0700
TZOFFSETTO:-0600
TZNAME:MDT
DTSTART:20230312T090000
END:DAYLIGHT
BEGIN:STANDARD
TZOFFSETFROM:-0600
TZOFFSETTO:-0700
TZNAME:MST
DTSTART:20231105T080000
END:STANDARD
BEGIN:DAYLIGHT
TZOFFSETFROM:-0700
TZOFFSETTO:-0600
TZNAME:MDT
DTSTART:20240310T090000
END:DAYLIGHT
BEGIN:STANDARD
TZOFFSETFROM:-0600
TZOFFSETTO:-0700
TZNAME:MST
DTSTART:20241103T080000
END:STANDARD
BEGIN:DAYLIGHT
TZOFFSETFROM:-0700
TZOFFSETTO:-0600
TZNAME:MDT
DTSTART:20250309T090000
END:DAYLIGHT
BEGIN:STANDARD
TZOFFSETFROM:-0600
TZOFFSETTO:-0700
TZNAME:MST
DTSTART:20251102T080000
END:STANDARD
END:VTIMEZONE
BEGIN:VEVENT
DTSTART;TZID=America/Denver:20240612T160000
DTEND;TZID=America/Denver:20240612T170000
DTSTAMP:20260421T112242
CREATED:20240522T144035Z
LAST-MODIFIED:20240610T213717Z
UID:7105-1718208000-1718211600@ucsjridgway.org
SUMMARY:Choir Practice
DESCRIPTION:For more information contact Katy Kristoffersen.
URL:https://ucsjridgway.org/event/choir-practice-90/
END:VEVENT
BEGIN:VEVENT
DTSTART;TZID=America/Denver:20240612T100000
DTEND;TZID=America/Denver:20240612T113000
DTSTAMP:20260421T112242
CREATED:20240522T143417Z
LAST-MODIFIED:20240522T143417Z
UID:7089-1718186400-1718191800@ucsjridgway.org
SUMMARY:Prayer Shawl Ministry
DESCRIPTION:Contact Donna Whiskeman for more information.
URL:https://ucsjridgway.org/event/prayer-shawl-ministry-33/
END:VEVENT
BEGIN:VEVENT
DTSTART;TZID=America/Denver:20240611T163000
DTEND;TZID=America/Denver:20240611T183000
DTSTAMP:20260421T112242
CREATED:20240522T145050Z
LAST-MODIFIED:20240522T145050Z
UID:7127-1718123400-1718130600@ucsjridgway.org
SUMMARY:Full Council Meeting
DESCRIPTION:
URL:https://ucsjridgway.org/event/full-council-meeting-10/
END:VEVENT
END:VCALENDAR