BEGIN:VCALENDAR
VERSION:2.0
PRODID:-//Ridgway United Church of the San Juans - ECPv6.15.18//NONSGML v1.0//EN
CALSCALE:GREGORIAN
METHOD:PUBLISH
X-WR-CALNAME:Ridgway United Church of the San Juans
X-ORIGINAL-URL:https://ucsjridgway.org
X-WR-CALDESC:Events for Ridgway United Church of the San Juans
REFRESH-INTERVAL;VALUE=DURATION:PT1H
X-Robots-Tag:noindex
X-PUBLISHED-TTL:PT1H
BEGIN:VTIMEZONE
TZID:America/Denver
BEGIN:DAYLIGHT
TZOFFSETFROM:-0700
TZOFFSETTO:-0600
TZNAME:MDT
DTSTART:20240310T090000
END:DAYLIGHT
BEGIN:STANDARD
TZOFFSETFROM:-0600
TZOFFSETTO:-0700
TZNAME:MST
DTSTART:20241103T080000
END:STANDARD
BEGIN:DAYLIGHT
TZOFFSETFROM:-0700
TZOFFSETTO:-0600
TZNAME:MDT
DTSTART:20250309T090000
END:DAYLIGHT
BEGIN:STANDARD
TZOFFSETFROM:-0600
TZOFFSETTO:-0700
TZNAME:MST
DTSTART:20251102T080000
END:STANDARD
BEGIN:DAYLIGHT
TZOFFSETFROM:-0700
TZOFFSETTO:-0600
TZNAME:MDT
DTSTART:20260308T090000
END:DAYLIGHT
BEGIN:STANDARD
TZOFFSETFROM:-0600
TZOFFSETTO:-0700
TZNAME:MST
DTSTART:20261101T080000
END:STANDARD
END:VTIMEZONE
BEGIN:VEVENT
DTSTART;TZID=America/Denver:20250904T093000
DTEND;TZID=America/Denver:20250904T103000
DTSTAMP:20260419T214432
CREATED:20250826T210345Z
LAST-MODIFIED:20250826T210536Z
UID:8671-1756978200-1756981800@ucsjridgway.org
SUMMARY:Women's Bible Study
DESCRIPTION:To join the Zoom meeting click here. For more information contact Donna Whiskeman.
URL:https://ucsjridgway.org/event/womens-bible-study/
END:VEVENT
BEGIN:VEVENT
DTSTART;TZID=America/Denver:20250901T130000
DTEND;TZID=America/Denver:20250901T150000
DTSTAMP:20260419T214432
CREATED:20250826T213139Z
LAST-MODIFIED:20250826T213139Z
UID:8700-1756731600-1756738800@ucsjridgway.org
SUMMARY:"Lupper" Gathering at Snowbarger's home
DESCRIPTION:What’s Lupper? It’s a casual\, delightful blend of lunch and supper designed for simple fellowship and connection.  We’ll provide burgers\, baked beans\, and drinks—please bring a side dish or dessert if you’d like.
URL:https://ucsjridgway.org/event/lupper-gathering-at-snowbargers-home/
END:VEVENT
BEGIN:VEVENT
DTSTART;TZID=America/Denver:20250901T090000
DTEND;TZID=America/Denver:20250901T100000
DTSTAMP:20260419T214432
CREATED:20250826T205527Z
LAST-MODIFIED:20250826T205652Z
UID:8659-1756717200-1756720800@ucsjridgway.org
SUMMARY:Centering Prayer (via Zoom)
DESCRIPTION:To join the Zoom meeting click here. For more information contact Kathy Graff.
URL:https://ucsjridgway.org/event/centering-prayer-via-zoom-238/
END:VEVENT
BEGIN:VEVENT
DTSTART;TZID=America/Denver:20250831T100000
DTEND;TZID=America/Denver:20250831T110000
DTSTAMP:20260419T214432
CREATED:20250721T212314Z
LAST-MODIFIED:20250721T212314Z
UID:8573-1756634400-1756638000@ucsjridgway.org
SUMMARY:Worship Service
DESCRIPTION:Sunday worship is also videotaped and posted on Facebook\, following the service\, here\, for you to worship at home\, or through our website here. \n 
URL:https://ucsjridgway.org/event/worship-service-187/
END:VEVENT
BEGIN:VEVENT
DTSTART;TZID=America/Denver:20250831T083000
DTEND;TZID=America/Denver:20250831T093000
DTSTAMP:20260419T214432
CREATED:20250721T212609Z
LAST-MODIFIED:20250721T212609Z
UID:8583-1756629000-1756632600@ucsjridgway.org
SUMMARY:Choir Practice
DESCRIPTION:For more information contact Katy Kristoffersen\, Director of Music (ucsjmusic@gmail.com).
URL:https://ucsjridgway.org/event/choir-practice-152/
END:VEVENT
BEGIN:VEVENT
DTSTART;TZID=America/Denver:20250830T083000
DTEND;TZID=America/Denver:20250830T093000
DTSTAMP:20260419T214432
CREATED:20250721T213057Z
LAST-MODIFIED:20250721T213057Z
UID:8599-1756542600-1756546200@ucsjridgway.org
SUMMARY:Men's Bible Study (via Zoom)
DESCRIPTION:To join the Zoom meeting click here.  For more information\, contact Bob Larson.
URL:https://ucsjridgway.org/event/mens-bible-study-via-zoom-214/
END:VEVENT
BEGIN:VEVENT
DTSTART;TZID=America/Denver:20250825T090000
DTEND;TZID=America/Denver:20250825T100000
DTSTAMP:20260419T214432
CREATED:20250721T212830Z
LAST-MODIFIED:20250721T212830Z
UID:8591-1756112400-1756116000@ucsjridgway.org
SUMMARY:Centering Prayer (via Zoom)
DESCRIPTION:To join the Zoom meeting click here. For more information contact Kathy Graff.
URL:https://ucsjridgway.org/event/centering-prayer-via-zoom-237/
END:VEVENT
BEGIN:VEVENT
DTSTART;TZID=America/Denver:20250824T140000
DTEND;TZID=America/Denver:20250824T153000
DTSTAMP:20260419T214432
CREATED:20250614T141623Z
LAST-MODIFIED:20250721T220927Z
UID:8435-1756044000-1756049400@ucsjridgway.org
SUMMARY:Sunday Sundae Concert
DESCRIPTION:Get ready for a delightful afternoon of music! We’re co-hosting a Children and Family Concert with the Ouray County Performing Arts Guild\, featuring performances by Max Levinson and the Ulysses Quartet. Bring the whole family for an enjoyable musical experience! Of course\, we’ll have ice cream sundaes following the concert.
URL:https://ucsjridgway.org/event/sunday-sundae-concert-7/
END:VEVENT
BEGIN:VEVENT
DTSTART;TZID=America/Denver:20250824T100000
DTEND;TZID=America/Denver:20250824T110000
DTSTAMP:20260419T214432
CREATED:20250721T212248Z
LAST-MODIFIED:20250721T212248Z
UID:8571-1756029600-1756033200@ucsjridgway.org
SUMMARY:Worship Service
DESCRIPTION:Sunday worship is also videotaped and posted on Facebook\, following the service\, here\, for you to worship at home\, or through our website here. \n 
URL:https://ucsjridgway.org/event/worship-service-186/
END:VEVENT
BEGIN:VEVENT
DTSTART;TZID=America/Denver:20250824T083000
DTEND;TZID=America/Denver:20250824T093000
DTSTAMP:20260419T214432
CREATED:20250721T212542Z
LAST-MODIFIED:20250721T212542Z
UID:8581-1756024200-1756027800@ucsjridgway.org
SUMMARY:Choir Practice
DESCRIPTION:For more information contact Katy Kristoffersen\, Director of Music (ucsjmusic@gmail.com).
URL:https://ucsjridgway.org/event/choir-practice-151/
END:VEVENT
BEGIN:VEVENT
DTSTART;TZID=America/Denver:20250823T083000
DTEND;TZID=America/Denver:20250823T093000
DTSTAMP:20260419T214432
CREATED:20250721T213031Z
LAST-MODIFIED:20250721T213031Z
UID:8597-1755937800-1755941400@ucsjridgway.org
SUMMARY:Men's Bible Study (via Zoom)
DESCRIPTION:To join the Zoom meeting click here.  For more information\, contact Bob Larson.
URL:https://ucsjridgway.org/event/mens-bible-study-via-zoom-213/
END:VEVENT
BEGIN:VEVENT
DTSTART;TZID=America/Denver:20250821T120000
DTEND;TZID=America/Denver:20250821T133000
DTSTAMP:20260419T214432
CREATED:20250721T214544Z
LAST-MODIFIED:20250721T215500Z
UID:8607-1755777600-1755783000@ucsjridgway.org
SUMMARY:Gals' Lunch at Shelter Distilling in Colorado Outdoors\, Montrose
DESCRIPTION:
URL:https://ucsjridgway.org/event/gals-lunch-27/
END:VEVENT
BEGIN:VEVENT
DTSTART;TZID=America/Denver:20250818T090000
DTEND;TZID=America/Denver:20250818T100000
DTSTAMP:20260419T214432
CREATED:20250721T212804Z
LAST-MODIFIED:20250721T212804Z
UID:8589-1755507600-1755511200@ucsjridgway.org
SUMMARY:Centering Prayer (via Zoom)
DESCRIPTION:To join the Zoom meeting click here. For more information contact Kathy Graff.
URL:https://ucsjridgway.org/event/centering-prayer-via-zoom-236/
END:VEVENT
BEGIN:VEVENT
DTSTART;TZID=America/Denver:20250817T100000
DTEND;TZID=America/Denver:20250817T110000
DTSTAMP:20260419T214432
CREATED:20250721T212219Z
LAST-MODIFIED:20250721T212219Z
UID:8569-1755424800-1755428400@ucsjridgway.org
SUMMARY:Worship Service
DESCRIPTION:Sunday worship is also videotaped and posted on Facebook\, following the service\, here\, for you to worship at home\, or through our website here. \n 
URL:https://ucsjridgway.org/event/worship-service-185/
END:VEVENT
BEGIN:VEVENT
DTSTART;TZID=America/Denver:20250817T083000
DTEND;TZID=America/Denver:20250817T093000
DTSTAMP:20260419T214432
CREATED:20250721T212514Z
LAST-MODIFIED:20250721T212514Z
UID:8579-1755419400-1755423000@ucsjridgway.org
SUMMARY:Choir Practice
DESCRIPTION:For more information contact Katy Kristoffersen\, Director of Music (ucsjmusic@gmail.com).
URL:https://ucsjridgway.org/event/choir-practice-150/
END:VEVENT
BEGIN:VEVENT
DTSTART;TZID=America/Denver:20250816T083000
DTEND;TZID=America/Denver:20250816T110000
DTSTAMP:20260419T214432
CREATED:20250721T214419Z
LAST-MODIFIED:20250721T214419Z
UID:8605-1755333000-1755342000@ucsjridgway.org
SUMMARY:Breakfast Forum
DESCRIPTION:The speaker will be Kelly Crane\, District Wildlife Manager for the Ouray County area and her presentation will be on “Cats.” This will include mountain lions\, lynx\, and bobcats. Her photography and experience with “cats” should be of great interest to people living in this area.
URL:https://ucsjridgway.org/event/breakfast-forum/
END:VEVENT
BEGIN:VEVENT
DTSTART;TZID=America/Denver:20250813T140000
DTEND;TZID=America/Denver:20250813T163000
DTSTAMP:20260419T214432
CREATED:20250721T214309Z
LAST-MODIFIED:20250721T214309Z
UID:8603-1755093600-1755102600@ucsjridgway.org
SUMMARY:FULL Council Meeting
DESCRIPTION:
URL:https://ucsjridgway.org/event/full-council-meeting-18/
END:VEVENT
BEGIN:VEVENT
DTSTART;TZID=America/Denver:20250811T090000
DTEND;TZID=America/Denver:20250811T100000
DTSTAMP:20260419T214432
CREATED:20250721T212731Z
LAST-MODIFIED:20250721T212731Z
UID:8587-1754902800-1754906400@ucsjridgway.org
SUMMARY:Centering Prayer (via Zoom)
DESCRIPTION:To join the Zoom meeting click here. For more information contact Kathy Graff.
URL:https://ucsjridgway.org/event/centering-prayer-via-zoom-235/
END:VEVENT
BEGIN:VEVENT
DTSTART;TZID=America/Denver:20250810T160000
DTEND;TZID=America/Denver:20250810T170000
DTSTAMP:20260419T214432
CREATED:20250614T145228Z
LAST-MODIFIED:20250614T145228Z
UID:8454-1754841600-1754845200@ucsjridgway.org
SUMMARY:Humans Anonymous
DESCRIPTION:A 5-week long discussion that will present some of the history & practices of 12-step recovery programs\, like Alcoholics Anonymous. Starting from the idea that the 12-step process can be valuable to everyone\, we aim to introduce people who have never attended a 12-step meeting to some of the program’s spiritual insights. We will also discuss how to be a supportive ally to people in 12-step recovery programs. This class is not intended to be a 12-step recovery group. Angela Todd will be presenting this series which meets July 13\, 20\, 27\, and August 3\, and 10.
URL:https://ucsjridgway.org/event/humans-anonymous-5/
END:VEVENT
BEGIN:VEVENT
DTSTART;TZID=America/Denver:20250810T100000
DTEND;TZID=America/Denver:20250810T110000
DTSTAMP:20260419T214432
CREATED:20250721T212148Z
LAST-MODIFIED:20250721T212148Z
UID:8567-1754820000-1754823600@ucsjridgway.org
SUMMARY:Worship Service
DESCRIPTION:Sunday worship is also videotaped and posted on Facebook\, following the service\, here\, for you to worship at home\, or through our website here. \n 
URL:https://ucsjridgway.org/event/worship-service-184/
END:VEVENT
BEGIN:VEVENT
DTSTART;TZID=America/Denver:20250810T083000
DTEND;TZID=America/Denver:20250810T093000
DTSTAMP:20260419T214432
CREATED:20250721T212447Z
LAST-MODIFIED:20250721T212447Z
UID:8577-1754814600-1754818200@ucsjridgway.org
SUMMARY:Choir Practice
DESCRIPTION:For more information contact Katy Kristoffersen\, Director of Music (ucsjmusic@gmail.com).
URL:https://ucsjridgway.org/event/choir-practice-149/
END:VEVENT
BEGIN:VEVENT
DTSTART;TZID=America/Denver:20250809T083000
DTEND;TZID=America/Denver:20250809T093000
DTSTAMP:20260419T214432
CREATED:20250721T213004Z
LAST-MODIFIED:20250721T213004Z
UID:8595-1754728200-1754731800@ucsjridgway.org
SUMMARY:Men's Bible Study (via Zoom)
DESCRIPTION:To join the Zoom meeting click here.  For more information\, contact Bob Larson.
URL:https://ucsjridgway.org/event/mens-bible-study-via-zoom-212/
END:VEVENT
BEGIN:VEVENT
DTSTART;TZID=America/Denver:20250808T100000
DTEND;TZID=America/Denver:20250808T113000
DTSTAMP:20260419T214432
CREATED:20250721T213941Z
LAST-MODIFIED:20250721T213941Z
UID:8601-1754647200-1754652600@ucsjridgway.org
SUMMARY:Tales from Brown's Mountain
DESCRIPTION:Get ready for an unforgettable exploration of local lore! Professor Jeff Snowbarger\, from the University of Wisconsin\, will be regaling us with legends\, tall tales\, and history centered around Donald Brown\, the intriguing man for whom Brown’s Mountain is named. Was he a shrewd prospector with a knack for discovery\, or simply a charming eccentric whose antics became local folklore? Join us as Jeff uncovers the truth\, or at least the most entertaining versions of it!
URL:https://ucsjridgway.org/event/tales-from-browns-mountain/
END:VEVENT
BEGIN:VEVENT
DTSTART;VALUE=DATE:20250805
DTEND;VALUE=DATE:20250808
DTSTAMP:20260419T214432
CREATED:20250427T180008Z
LAST-MODIFIED:20250427T180008Z
UID:8249-1754352000-1754611199@ucsjridgway.org
SUMMARY:Creede (Mountain Adventure)
DESCRIPTION:If you love the mountains\, great theatre\, and outdoor adventures\, this is the trip for you!  You may wish to attend the shows at the Creede Repertory Theatre (The 39 Steps\, mystery\, comedy\, farceMix and/or Silent Sky\, drama).  We’ll enjoy dinners together before the shows on Tuesday and Wednesday evenings.  Other activities include hiking\, off-roading\, Creede Underground Mining Museum\, Creede Historical Museum\, fishing in the Rio Grande\, or driving to Lake City or the Wheeler Geologic Area.  Sign up in the gathering area or talk to Carolyn Snowbarger for more information. \n 
URL:https://ucsjridgway.org/event/creede-mountain-adventure/
END:VEVENT
BEGIN:VEVENT
DTSTART;TZID=America/Denver:20250804T090000
DTEND;TZID=America/Denver:20250804T100000
DTSTAMP:20260419T214432
CREATED:20250721T212703Z
LAST-MODIFIED:20250721T212703Z
UID:8585-1754298000-1754301600@ucsjridgway.org
SUMMARY:Centering Prayer (via Zoom)
DESCRIPTION:To join the Zoom meeting click here. For more information contact Kathy Graff.
URL:https://ucsjridgway.org/event/centering-prayer-via-zoom-234/
END:VEVENT
BEGIN:VEVENT
DTSTART;TZID=America/Denver:20250803T160000
DTEND;TZID=America/Denver:20250803T170000
DTSTAMP:20260419T214432
CREATED:20250614T145153Z
LAST-MODIFIED:20250614T145153Z
UID:8452-1754236800-1754240400@ucsjridgway.org
SUMMARY:Humans Anonymous
DESCRIPTION:A 5-week long discussion that will present some of the history & practices of 12-step recovery programs\, like Alcoholics Anonymous. Starting from the idea that the 12-step process can be valuable to everyone\, we aim to introduce people who have never attended a 12-step meeting to some of the program’s spiritual insights. We will also discuss how to be a supportive ally to people in 12-step recovery programs. This class is not intended to be a 12-step recovery group. Angela Todd will be presenting this series which meets July 13\, 20\, 27\, and August 3\, and 10.
URL:https://ucsjridgway.org/event/humans-anonymous-4/
END:VEVENT
BEGIN:VEVENT
DTSTART;TZID=America/Denver:20250803T100000
DTEND;TZID=America/Denver:20250803T110000
DTSTAMP:20260419T214432
CREATED:20250721T212113Z
LAST-MODIFIED:20250721T212113Z
UID:8565-1754215200-1754218800@ucsjridgway.org
SUMMARY:Worship Service with Communion
DESCRIPTION:Sunday worship is also videotaped and posted on Facebook\, following the service\, here\, for you to worship at home\, or through our website here. \n 
URL:https://ucsjridgway.org/event/worship-service-with-communion-49/
END:VEVENT
BEGIN:VEVENT
DTSTART;TZID=America/Denver:20250803T083000
DTEND;TZID=America/Denver:20250803T093000
DTSTAMP:20260419T214432
CREATED:20250721T212408Z
LAST-MODIFIED:20250721T212408Z
UID:8575-1754209800-1754213400@ucsjridgway.org
SUMMARY:Choir Practice
DESCRIPTION:For more information contact Katy Kristoffersen\, Director of Music (ucsjmusic@gmail.com).
URL:https://ucsjridgway.org/event/choir-practice-148/
END:VEVENT
BEGIN:VEVENT
DTSTART;TZID=America/Denver:20250802T083000
DTEND;TZID=America/Denver:20250802T093000
DTSTAMP:20260419T214432
CREATED:20250721T212930Z
LAST-MODIFIED:20250721T212930Z
UID:8593-1754123400-1754127000@ucsjridgway.org
SUMMARY:Men's Bible Study (via Zoom)
DESCRIPTION:To join the Zoom meeting click here.  For more information\, contact Bob Larson.
URL:https://ucsjridgway.org/event/mens-bible-study-via-zoom-211/
END:VEVENT
BEGIN:VEVENT
DTSTART;TZID=America/Denver:20250730T120000
DTEND;TZID=America/Denver:20250730T140000
DTSTAMP:20260419T214432
CREATED:20250623T213225Z
LAST-MODIFIED:20250623T213225Z
UID:8525-1753876800-1753884000@ucsjridgway.org
SUMMARY:Can We Really Make It Snow?
DESCRIPTION:For many Coloradans\, snow is more than just a part of winter—it’s our water supply\, our playground\, and a vital part of our economy. But what if we could give nature a helping hand? Join us for a fascinating presentation\, featuring UCSJ’s meteorologist Dr. Tim Spangler. As a retired meteorologist and a former licensed weather modification project manager\, Dr. Spangler will demystify the science and practice of augmenting our state’s snowpack. This talk is perfect for anyone curious about our weather\, water in the West\, or the innovative ways we manage our natural resources. There WILL be pizza\, and NO advanced physics background is required!
URL:https://ucsjridgway.org/event/can-we-really-make-it-snow/
END:VEVENT
END:VCALENDAR